BEGIN:VCALENDAR
VERSION:2.0
PRODID:-//Ventura County H&amp;I - ECPv6.15.20//NONSGML v1.0//EN
CALSCALE:GREGORIAN
METHOD:PUBLISH
X-ORIGINAL-URL:https://vcaahi.org
X-WR-CALDESC:Events for Ventura County H&amp;I
REFRESH-INTERVAL;VALUE=DURATION:PT1H
X-Robots-Tag:noindex
X-PUBLISHED-TTL:PT1H
BEGIN:VTIMEZONE
TZID:America/Los_Angeles
BEGIN:DAYLIGHT
TZOFFSETFROM:-0800
TZOFFSETTO:-0700
TZNAME:PDT
DTSTART:20230312T100000
END:DAYLIGHT
BEGIN:STANDARD
TZOFFSETFROM:-0700
TZOFFSETTO:-0800
TZNAME:PST
DTSTART:20231105T090000
END:STANDARD
BEGIN:DAYLIGHT
TZOFFSETFROM:-0800
TZOFFSETTO:-0700
TZNAME:PDT
DTSTART:20240310T100000
END:DAYLIGHT
BEGIN:STANDARD
TZOFFSETFROM:-0700
TZOFFSETTO:-0800
TZNAME:PST
DTSTART:20241103T090000
END:STANDARD
BEGIN:DAYLIGHT
TZOFFSETFROM:-0800
TZOFFSETTO:-0700
TZNAME:PDT
DTSTART:20250309T100000
END:DAYLIGHT
BEGIN:STANDARD
TZOFFSETFROM:-0700
TZOFFSETTO:-0800
TZNAME:PST
DTSTART:20251102T090000
END:STANDARD
END:VTIMEZONE
BEGIN:VEVENT
DTSTART;TZID=America/Los_Angeles:20241002T183000
DTEND;TZID=America/Los_Angeles:20241002T193000
DTSTAMP:20260425T193513
CREATED:20240610T190105Z
LAST-MODIFIED:20241008T015011Z
UID:14173-1727893800-1727897400@vcaahi.org
SUMMARY:Wednesday Thompson Place Panels
DESCRIPTION:Thompson Place Panels – October 2024\nCo-ed\n\nOctober 2nd\nOctober 16th
URL:https://vcaahi.org/event/wednesday-thompson-place-panels/
LOCATION:Thompson Place\, 1681 E. Thompson Blvd.\, Ventura\, CA\, 93001\, United States
END:VEVENT
BEGIN:VEVENT
DTSTART;TZID=America/Los_Angeles:20241003T180000
DTEND;TZID=America/Los_Angeles:20241003T190000
DTSTAMP:20260425T193513
CREATED:20240610T185407Z
LAST-MODIFIED:20241008T015145Z
UID:14167-1727978400-1727982000@vcaahi.org
SUMMARY:Thursday Hillmont Psychiatric Panels
DESCRIPTION:Hillmont Psychiatric Unit Panels – October 2024\nCo-ed\n\nOctober 3rd\nOctober 17th
URL:https://vcaahi.org/event/thursday-hillmont-psychiatric-panels/
LOCATION:Hillmont Psychiatric\, 200 Hillmont Ave.\, Ventura\, CA\, 93003\, United States
END:VEVENT
BEGIN:VEVENT
DTSTART;TZID=America/Los_Angeles:20241009T190000
DTEND;TZID=America/Los_Angeles:20241009T200000
DTSTAMP:20260425T193513
CREATED:20240610T185714Z
LAST-MODIFIED:20241008T014908Z
UID:14170-1728500400-1728504000@vcaahi.org
SUMMARY:Wednesday Paradiso Recovery Panels
DESCRIPTION:Paradiso Recovery Panels – October 2024\nCo-ed\n\nOctober 9th
URL:https://vcaahi.org/event/wednesday-paradiso-recovery-panels/
LOCATION:Paradiso Recovery\, 119 Encino Ave.\, Camarillo\, CA\, 93010\, United States
END:VEVENT
BEGIN:VEVENT
DTSTART;TZID=America/Los_Angeles:20241016T113000
DTEND;TZID=America/Los_Angeles:20241016T123000
DTSTAMP:20260425T193513
CREATED:20240610T185047Z
LAST-MODIFIED:20241008T014801Z
UID:14164-1729078200-1729081800@vcaahi.org
SUMMARY:Wednesday Wildwood Panels
DESCRIPTION:Wildwood Recovery IOP Panels – August 2024\nCo-ed\n\nOctober 16th
URL:https://vcaahi.org/event/wednesday-wildwood-panels/
LOCATION:Wildwood Recovery\, 166 N. Moorpark Rd.\, Ste. 304\, CA\, 91360\, United States
END:VEVENT
END:VCALENDAR