BEGIN:VCALENDAR
VERSION:2.0
PRODID:-//Ventura County H&amp;I - ECPv6.15.20//NONSGML v1.0//EN
CALSCALE:GREGORIAN
METHOD:PUBLISH
X-ORIGINAL-URL:https://vcaahi.org
X-WR-CALDESC:Events for Ventura County H&amp;I
REFRESH-INTERVAL;VALUE=DURATION:PT1H
X-Robots-Tag:noindex
X-PUBLISHED-TTL:PT1H
BEGIN:VTIMEZONE
TZID:America/Los_Angeles
BEGIN:DAYLIGHT
TZOFFSETFROM:-0800
TZOFFSETTO:-0700
TZNAME:PDT
DTSTART:20230312T100000
END:DAYLIGHT
BEGIN:STANDARD
TZOFFSETFROM:-0700
TZOFFSETTO:-0800
TZNAME:PST
DTSTART:20231105T090000
END:STANDARD
BEGIN:DAYLIGHT
TZOFFSETFROM:-0800
TZOFFSETTO:-0700
TZNAME:PDT
DTSTART:20240310T100000
END:DAYLIGHT
BEGIN:STANDARD
TZOFFSETFROM:-0700
TZOFFSETTO:-0800
TZNAME:PST
DTSTART:20241103T090000
END:STANDARD
BEGIN:DAYLIGHT
TZOFFSETFROM:-0800
TZOFFSETTO:-0700
TZNAME:PDT
DTSTART:20250309T100000
END:DAYLIGHT
BEGIN:STANDARD
TZOFFSETFROM:-0700
TZOFFSETTO:-0800
TZNAME:PST
DTSTART:20251102T090000
END:STANDARD
END:VTIMEZONE
BEGIN:VEVENT
DTSTART;TZID=America/Los_Angeles:20241005T180000
DTEND;TZID=America/Los_Angeles:20241005T190000
DTSTAMP:20260425T210044
CREATED:20240610T191055Z
LAST-MODIFIED:20241008T015355Z
UID:14179-1728151200-1728154800@vcaahi.org
SUMMARY:Saturday Crisis Residential Treatment (CRT) Panels
DESCRIPTION:Saturday Crisis Residential Treatment (CRT) Panels – October 2024\nCo-ed\n\nOctober 5th\nOctober 12th\nOctober 19th\nOctober 26th
URL:https://vcaahi.org/event/saturday-crisis-residential-treatment-panels/
LOCATION:Crisis Residential Treament (CRT)\, 350 Hillmont Ave.\, Ventura\, CA\, 93003\, United States
END:VEVENT
END:VCALENDAR