BEGIN:VCALENDAR
VERSION:2.0
PRODID:-//Ventura County H&amp;I - ECPv6.15.20//NONSGML v1.0//EN
CALSCALE:GREGORIAN
METHOD:PUBLISH
X-ORIGINAL-URL:https://vcaahi.org
X-WR-CALDESC:Events for Ventura County H&amp;I
REFRESH-INTERVAL;VALUE=DURATION:PT1H
X-Robots-Tag:noindex
X-PUBLISHED-TTL:PT1H
BEGIN:VTIMEZONE
TZID:America/Los_Angeles
BEGIN:DAYLIGHT
TZOFFSETFROM:-0800
TZOFFSETTO:-0700
TZNAME:PDT
DTSTART:20230312T100000
END:DAYLIGHT
BEGIN:STANDARD
TZOFFSETFROM:-0700
TZOFFSETTO:-0800
TZNAME:PST
DTSTART:20231105T090000
END:STANDARD
BEGIN:DAYLIGHT
TZOFFSETFROM:-0800
TZOFFSETTO:-0700
TZNAME:PDT
DTSTART:20240310T100000
END:DAYLIGHT
BEGIN:STANDARD
TZOFFSETFROM:-0700
TZOFFSETTO:-0800
TZNAME:PST
DTSTART:20241103T090000
END:STANDARD
BEGIN:DAYLIGHT
TZOFFSETFROM:-0800
TZOFFSETTO:-0700
TZNAME:PDT
DTSTART:20250309T100000
END:DAYLIGHT
BEGIN:STANDARD
TZOFFSETFROM:-0700
TZOFFSETTO:-0800
TZNAME:PST
DTSTART:20251102T090000
END:STANDARD
END:VTIMEZONE
BEGIN:VEVENT
DTSTART;TZID=America/Los_Angeles:20241014T190000
DTEND;TZID=America/Los_Angeles:20241014T200000
DTSTAMP:20260425T205826
CREATED:20240610T183754Z
LAST-MODIFIED:20241008T013556Z
UID:14155-1728932400-1728936000@vcaahi.org
SUMMARY:Monday Casa de Esperanza Panels
DESCRIPTION:Casa de Esperanza Panels – October 2024\nCo-ed\n\nOctober 14th\nOctober 28th
URL:https://vcaahi.org/event/monday-casa-de-esperanza-panels/
LOCATION:Casa de Esperanza\, 1750 S. Lewis Rd.\, Camarillo\, CA\, 93012\, United States
END:VEVENT
END:VCALENDAR