BEGIN:VCALENDAR
VERSION:2.0
PRODID:-//Ventura County H&amp;I - ECPv6.15.20//NONSGML v1.0//EN
CALSCALE:GREGORIAN
METHOD:PUBLISH
X-WR-CALNAME:Ventura County H&amp;I
X-ORIGINAL-URL:https://vcaahi.org
X-WR-CALDESC:Events for Ventura County H&amp;I
REFRESH-INTERVAL;VALUE=DURATION:PT1H
X-Robots-Tag:noindex
X-PUBLISHED-TTL:PT1H
BEGIN:VTIMEZONE
TZID:UTC
BEGIN:STANDARD
TZOFFSETFROM:+0000
TZOFFSETTO:+0000
TZNAME:UTC
DTSTART:20220101T000000
END:STANDARD
END:VTIMEZONE
BEGIN:VEVENT
DTSTART;TZID=UTC:20230405T190000
DTEND;TZID=UTC:20230405T200000
DTSTAMP:20260425T055633
CREATED:20230425T221659Z
LAST-MODIFIED:20230425T221659Z
UID:13967-1680721200-1680724800@vcaahi.org
SUMMARY:District 13 (click for info)
DESCRIPTION:
URL:https://vcaahi.org/event/district-13-click-for-info-13/
LOCATION:Ventura Center for Spiritual Living 101 S. Laurel\, Ventura\, CA 93001
END:VEVENT
BEGIN:VEVENT
DTSTART;TZID=UTC:20230402T150000
DTEND;TZID=UTC:20230402T152000
DTSTAMP:20260425T055633
CREATED:20230310T032233Z
LAST-MODIFIED:20230310T032233Z
UID:13944-1680447600-1680448800@vcaahi.org
SUMMARY:VCAAHI ORIENTATION WORKSHOP (click for info)
DESCRIPTION:
URL:https://vcaahi.org/event/vcaahi-orientation-workshop-click-for-info-8/
LOCATION:The Buck\, 321 N. Aviador St. Suite 111  Camarillo\, CA 93010\, 321 N. Aviador St. Suite 111 \, Camarillo\, CA\, 93010
END:VEVENT
BEGIN:VEVENT
DTSTART;VALUE=DATE:20230331
DTEND;VALUE=DATE:20230401
DTSTAMP:20260425T055633
CREATED:20230215T043038Z
LAST-MODIFIED:20230215T043038Z
UID:13909-1680220800-1680307199@vcaahi.org
SUMMARY:FIFTH WEEK
DESCRIPTION:
URL:https://vcaahi.org/event/fifth-week-54/
LOCATION:CA
END:VEVENT
BEGIN:VEVENT
DTSTART;VALUE=DATE:20230330
DTEND;VALUE=DATE:20230331
DTSTAMP:20260425T055633
CREATED:20230215T043001Z
LAST-MODIFIED:20230425T225424Z
UID:13907-1680134400-1680220799@vcaahi.org
SUMMARY:FIFTH WEEK
DESCRIPTION:
URL:https://vcaahi.org/event/fifth-week-53/
LOCATION:CA
END:VEVENT
BEGIN:VEVENT
DTSTART;VALUE=DATE:20230329
DTEND;VALUE=DATE:20230330
DTSTAMP:20260425T055633
CREATED:20230215T042924Z
LAST-MODIFIED:20230215T042924Z
UID:13905-1680048000-1680134399@vcaahi.org
SUMMARY:FIFTH WEEK
DESCRIPTION:
URL:https://vcaahi.org/event/fifth-week-52/
LOCATION:CA
END:VEVENT
BEGIN:VEVENT
DTSTART;TZID=UTC:20230326T160000
DTEND;TZID=UTC:20230326T163000
DTSTAMP:20260425T055633
CREATED:20230310T031558Z
LAST-MODIFIED:20230310T031558Z
UID:13938-1679846400-1679848200@vcaahi.org
SUMMARY:VCAAHI BOARD MEETING (click for info)
DESCRIPTION:
URL:https://vcaahi.org/event/vcaahi-board-meeting-click-for-info-15/
LOCATION:id 894 2953 3154 pw 448771
END:VEVENT
BEGIN:VEVENT
DTSTART;TZID=UTC:20230326T120000
DTEND;TZID=UTC:20230326T133000
DTSTAMP:20260425T055633
CREATED:20230310T025742Z
LAST-MODIFIED:20230310T030127Z
UID:13932-1679832000-1679837400@vcaahi.org
SUMMARY:SOUTHERN CALIFORNIA H&I INTERGROUP (click for info)
DESCRIPTION:
URL:https://vcaahi.org/event/southern-california-hi-intergroup-click-for-info-8/
LOCATION:id: 290 755 6393 pw: 2091
END:VEVENT
BEGIN:VEVENT
DTSTART;TZID=UTC:20230325T180000
DTEND;TZID=UTC:20230325T210000
DTSTAMP:20260425T055633
CREATED:20230310T023652Z
LAST-MODIFIED:20230310T023836Z
UID:13917-1679767200-1679778000@vcaahi.org
SUMMARY:Serenity By The Sea Presents BINGO (click for info)
DESCRIPTION:
URL:https://vcaahi.org/event/serenity-by-the-sea-presents-bingo/
LOCATION:Freedon Center – 515 Eubanks St  Camarillo\, California 93010\, 515 Eubanks\, Camarillo\, CA\, 93010
END:VEVENT
BEGIN:VEVENT
DTSTART;TZID=UTC:20230321T190000
DTEND;TZID=UTC:20230321T200000
DTSTAMP:20260425T055633
CREATED:20230310T025349Z
LAST-MODIFIED:20230310T025349Z
UID:13928-1679425200-1679428800@vcaahi.org
SUMMARY:DISTRICT 28  (click for info)
DESCRIPTION:
URL:https://vcaahi.org/event/district-28-click-for-info-11/
LOCATION:King of Glory Church 2500 Borchard Rd Newbury Park\, CA
END:VEVENT
BEGIN:VEVENT
DTSTART;TZID=UTC:20230319T153000
DTEND;TZID=UTC:20230319T163000
DTSTAMP:20260425T055633
CREATED:20230310T024055Z
LAST-MODIFIED:20230310T024058Z
UID:13921-1679239800-1679243400@vcaahi.org
SUMMARY:VCAA CONVENTION PLANNING COMMITTEE (click for info)
DESCRIPTION:
URL:https://vcaahi.org/event/vcaa-convention-planning-committee-click-for-info/
LOCATION:The Buck\, 321 N. Aviador St. Suite 111  Camarillo\, CA 93010\, 321 N. Aviador St. Suite 111 \, Camarillo\, CA\, 93010
END:VEVENT
BEGIN:VEVENT
DTSTART;TZID=UTC:20230316T190000
DTEND;TZID=UTC:20230316T200000
DTSTAMP:20260425T055633
CREATED:20230310T025211Z
LAST-MODIFIED:20230310T025211Z
UID:13926-1678993200-1678996800@vcaahi.org
SUMMARY:DISTRICT 24 (click for info)
DESCRIPTION:
URL:https://vcaahi.org/event/district-24-click-for-info-12/
LOCATION:United Methodist Church Room 10 2394 Erringer Rd Simi Valley\, CA 93065\, 2394 Erringer Rd\, Simi Valley\, CA\, 93065
END:VEVENT
BEGIN:VEVENT
DTSTART;TZID=UTC:20230315T190000
DTEND;TZID=UTC:20230315T200000
DTSTAMP:20260425T055633
CREATED:20230310T025523Z
LAST-MODIFIED:20230310T025523Z
UID:13930-1678906800-1678910400@vcaahi.org
SUMMARY:GOLD COAST DISTRICT 9 & 12 ( clink for info)
DESCRIPTION:
URL:https://vcaahi.org/event/gold-coast-district-9-12-clink-for-info-6/
LOCATION:The Buck\, 321 N. Aviador St. Suite 111  Camarillo\, CA 93010\, 321 N. Aviador St. Suite 111 \, Camarillo\, CA\, 93010
END:VEVENT
BEGIN:VEVENT
DTSTART;TZID=UTC:20230305T153000
DTEND;TZID=UTC:20230305T163000
DTSTAMP:20260425T055633
CREATED:20230215T042353Z
LAST-MODIFIED:20230215T042358Z
UID:13899-1678030200-1678033800@vcaahi.org
SUMMARY:VCAAHI COMMITTEE MEETING (click for info)
DESCRIPTION:
URL:https://vcaahi.org/event/vcaahi-committee-meeting-click-for-info-11/
LOCATION:The Buck\, 321 N. Aviador St. Suite 111  Camarillo\, CA 93010\, 321 N. Aviador St. Suite 111 \, Camarillo\, CA\, 93010
END:VEVENT
BEGIN:VEVENT
DTSTART;TZID=UTC:20230305T150000
DTEND;TZID=UTC:20230305T152000
DTSTAMP:20260425T055633
CREATED:20230215T042740Z
LAST-MODIFIED:20230215T042750Z
UID:13903-1678028400-1678029600@vcaahi.org
SUMMARY:VCAAHI ORIENTATION WORKSHOP (click for info)
DESCRIPTION:
URL:https://vcaahi.org/event/vcaahi-orientation-workshop-click-for-info-7/
LOCATION:The Buck\, 321 N. Aviador St. Suite 111  Camarillo\, CA 93010\, 321 N. Aviador St. Suite 111 \, Camarillo\, CA\, 93010
END:VEVENT
BEGIN:VEVENT
DTSTART;TZID=UTC:20230301T190000
DTEND;TZID=UTC:20230301T200000
DTSTAMP:20260425T055633
CREATED:20230310T024336Z
LAST-MODIFIED:20230310T024336Z
UID:13923-1677697200-1677700800@vcaahi.org
SUMMARY:District 13 (click for info)
DESCRIPTION:
URL:https://vcaahi.org/event/district-13-click-for-info-12/
LOCATION:Ventura Center for Spiritual Living 101 S. Laurel\, Ventura\, CA 93001
END:VEVENT
BEGIN:VEVENT
DTSTART;TZID=UTC:20230226T163000
DTEND;TZID=UTC:20230226T170000
DTSTAMP:20260425T055633
CREATED:20230205T091246Z
LAST-MODIFIED:20230205T091312Z
UID:13878-1677429000-1677430800@vcaahi.org
SUMMARY:VCAAHI BOARD MEETING (click for info)
DESCRIPTION:
URL:https://vcaahi.org/event/vcaahi-board-meeting-click-for-info-14/
LOCATION:id 894 2953 3154 pw 448771
END:VEVENT
BEGIN:VEVENT
DTSTART;TZID=UTC:20230226T120000
DTEND;TZID=UTC:20230226T133000
DTSTAMP:20260425T055633
CREATED:20230205T091439Z
LAST-MODIFIED:20230205T091439Z
UID:13880-1677412800-1677418200@vcaahi.org
SUMMARY:SOUTHERN CALIFORNIA H&I INTERGROUP (click for info)
DESCRIPTION:
URL:https://vcaahi.org/event/southern-california-hi-intergroup-click-for-info-7/
LOCATION:id: 290 755 6393 pw: 2091
END:VEVENT
BEGIN:VEVENT
DTSTART;TZID=UTC:20230225T183000
DTEND;TZID=UTC:20230225T230000
DTSTAMP:20260425T055633
CREATED:20230205T093017Z
LAST-MODIFIED:20230215T042041Z
UID:13890-1677349800-1677366000@vcaahi.org
SUMMARY:PIG ROAST BINGO (click for info)
DESCRIPTION:
URL:https://vcaahi.org/event/pig-roast-bingo/
LOCATION:The Buck\, 321 N. Aviador St. Suite 111  Camarillo\, CA 93010\, 321 N. Aviador St. Suite 111 \, Camarillo\, CA\, 93010
END:VEVENT
BEGIN:VEVENT
DTSTART;TZID=UTC:20230221T190000
DTEND;TZID=UTC:20230221T200000
DTSTAMP:20260425T055633
CREATED:20230205T093423Z
LAST-MODIFIED:20230205T093423Z
UID:13892-1677006000-1677009600@vcaahi.org
SUMMARY:DISTRICT 28  (click for info)
DESCRIPTION:
URL:https://vcaahi.org/event/district-28-click-for-info-10/
LOCATION:King of Glory Church 2500 Borchard Rd Newbury Park\, CA
END:VEVENT
BEGIN:VEVENT
DTSTART;TZID=UTC:20230219T153000
DTEND;TZID=UTC:20230219T163000
DTSTAMP:20260425T055633
CREATED:20230215T041050Z
LAST-MODIFIED:20230215T041215Z
UID:13895-1676820600-1676824200@vcaahi.org
SUMMARY:VCAA CONVENTION PLANNING COMMITTEE (click for info)
DESCRIPTION:
URL:https://vcaahi.org/event/vcaa-convention-planning-committee/
LOCATION:The Buck\, 321 N. Aviador St. Suite 111  Camarillo\, CA 93010\, 321 N. Aviador St. Suite 111 \, Camarillo\, CA\, 93010
END:VEVENT
BEGIN:VEVENT
DTSTART;TZID=UTC:20230219T080000
DTEND;TZID=UTC:20230219T170000
DTSTAMP:20260425T055633
CREATED:20230205T092735Z
LAST-MODIFIED:20230205T092743Z
UID:13888-1676793600-1676826000@vcaahi.org
SUMMARY:Area 93 Assembly see website
DESCRIPTION:
URL:https://vcaahi.org/event/area-93-assembly-see-website/
LOCATION:CA
END:VEVENT
BEGIN:VEVENT
DTSTART;TZID=UTC:20230216T190000
DTEND;TZID=UTC:20230216T200000
DTSTAMP:20260425T055633
CREATED:20230205T091918Z
LAST-MODIFIED:20230205T093606Z
UID:13884-1676574000-1676577600@vcaahi.org
SUMMARY:DISTRICT 24 (click for info)
DESCRIPTION:
URL:https://vcaahi.org/event/district-24-click-for-info-11/
LOCATION:United Methodist Church Room 10 2394 Erringer Rd Simi Valley\, CA 93065\, 2394 Erringer Rd\, Simi Valley\, CA\, 93065
END:VEVENT
BEGIN:VEVENT
DTSTART;TZID=UTC:20230215T190000
DTEND;TZID=UTC:20230215T200000
DTSTAMP:20260425T055633
CREATED:20230205T092122Z
LAST-MODIFIED:20230205T092130Z
UID:13886-1676487600-1676491200@vcaahi.org
SUMMARY:GOLD COAST DISTRICT 9 & 12 ( clink for info)
DESCRIPTION:
URL:https://vcaahi.org/event/gold-coast-district-9-12-clink-for-info-5/
LOCATION:The Buck\, 321 N. Aviador St. Suite 111  Camarillo\, CA 93010\, 321 N. Aviador St. Suite 111 \, Camarillo\, CA\, 93010
END:VEVENT
BEGIN:VEVENT
DTSTART;TZID=UTC:20230214T150000
DTEND;TZID=UTC:20230214T152000
DTSTAMP:20260425T055633
CREATED:20230215T042504Z
LAST-MODIFIED:20230215T042504Z
UID:13901-1676386800-1676388000@vcaahi.org
SUMMARY:VCAAHI ORIENTATION WORKSHOP (click for info)
DESCRIPTION:
URL:https://vcaahi.org/event/vcaahi-orientation-workshop-click-for-info-6/
LOCATION:The Buck\, 321 N. Aviador St. Suite 111  Camarillo\, CA 93010\, 321 N. Aviador St. Suite 111 \, Camarillo\, CA\, 93010
END:VEVENT
BEGIN:VEVENT
DTSTART;TZID=UTC:20230205T153000
DTEND;TZID=UTC:20230205T163000
DTSTAMP:20260425T055633
CREATED:20230205T090904Z
LAST-MODIFIED:20230205T090904Z
UID:13876-1675611000-1675614600@vcaahi.org
SUMMARY:VCAAHI COMMITTEE MEETING (click for info)
DESCRIPTION:
URL:https://vcaahi.org/event/vcaahi-committee-meeting-click-for-info-10/
LOCATION:The Buck\, 321 N. Aviador St. Suite 111  Camarillo\, CA 93010\, 321 N. Aviador St. Suite 111 \, Camarillo\, CA\, 93010
END:VEVENT
BEGIN:VEVENT
DTSTART;TZID=UTC:20230205T150000
DTEND;TZID=UTC:20230205T152000
DTSTAMP:20260425T055633
CREATED:20230205T090740Z
LAST-MODIFIED:20230205T090740Z
UID:13874-1675609200-1675610400@vcaahi.org
SUMMARY:VCAAHI ORIENTATION WORKSHOP (click for info)
DESCRIPTION:
URL:https://vcaahi.org/event/vcaahi-orientation-workshop-click-for-info-5/
LOCATION:The Buck\, 321 N. Aviador St. Suite 111  Camarillo\, CA 93010\, 321 N. Aviador St. Suite 111 \, Camarillo\, CA\, 93010
END:VEVENT
BEGIN:VEVENT
DTSTART;TZID=UTC:20230201T190000
DTEND;TZID=UTC:20230201T200000
DTSTAMP:20260425T055633
CREATED:20230205T091739Z
LAST-MODIFIED:20230205T091749Z
UID:13882-1675278000-1675281600@vcaahi.org
SUMMARY:District 13 (click for info)
DESCRIPTION:
URL:https://vcaahi.org/event/district-13-click-for-info-11/
LOCATION:Ventura Center for Spiritual Living 101 S. Laurel\, Ventura\, CA 93001
END:VEVENT
BEGIN:VEVENT
DTSTART;VALUE=DATE:20230131
DTEND;VALUE=DATE:20230201
DTSTAMP:20260425T055633
CREATED:20221229T074318Z
LAST-MODIFIED:20221229T074318Z
UID:13853-1675123200-1675209599@vcaahi.org
SUMMARY:FIFTH WEEK
DESCRIPTION:
URL:https://vcaahi.org/event/fifth-week-51/
LOCATION:CA
END:VEVENT
BEGIN:VEVENT
DTSTART;VALUE=DATE:20230130
DTEND;VALUE=DATE:20230131
DTSTAMP:20260425T055633
CREATED:20221229T074001Z
LAST-MODIFIED:20221229T074001Z
UID:13848-1675036800-1675123199@vcaahi.org
SUMMARY:FIFTH WEEK
DESCRIPTION:
URL:https://vcaahi.org/event/fifth-week-49/
LOCATION:CA
END:VEVENT
BEGIN:VEVENT
DTSTART;TZID=UTC:20230129T163000
DTEND;TZID=UTC:20230129T170000
DTSTAMP:20260425T055633
CREATED:20221229T071948Z
LAST-MODIFIED:20221229T071948Z
UID:13841-1675009800-1675011600@vcaahi.org
SUMMARY:VCAAHI BOARD MEETING (click for info)
DESCRIPTION:
URL:https://vcaahi.org/event/vcaahi-board-meeting-click-for-info-13/
LOCATION:CA
END:VEVENT
END:VCALENDAR