BEGIN:VCALENDAR
VERSION:2.0
PRODID:-//Ventura County H&amp;I - ECPv6.15.20//NONSGML v1.0//EN
CALSCALE:GREGORIAN
METHOD:PUBLISH
X-WR-CALNAME:Ventura County H&amp;I
X-ORIGINAL-URL:https://vcaahi.org
X-WR-CALDESC:Events for Ventura County H&amp;I
REFRESH-INTERVAL;VALUE=DURATION:PT1H
X-Robots-Tag:noindex
X-PUBLISHED-TTL:PT1H
BEGIN:VTIMEZONE
TZID:UTC
BEGIN:STANDARD
TZOFFSETFROM:+0000
TZOFFSETTO:+0000
TZNAME:UTC
DTSTART:20220101T000000
END:STANDARD
END:VTIMEZONE
BEGIN:VEVENT
DTSTART;VALUE=DATE:20230531
DTEND;VALUE=DATE:20230601
DTSTAMP:20260425T035347
CREATED:20230310T033205Z
LAST-MODIFIED:20230425T224432Z
UID:13959-1685491200-1685577599@vcaahi.org
SUMMARY:FIFTH WEEK
DESCRIPTION:
URL:https://vcaahi.org/event/fifth-week-59/
LOCATION:CA
END:VEVENT
BEGIN:VEVENT
DTSTART;VALUE=DATE:20230530
DTEND;VALUE=DATE:20230531
DTSTAMP:20260425T035347
CREATED:20230310T033135Z
LAST-MODIFIED:20230425T224708Z
UID:13957-1685404800-1685491199@vcaahi.org
SUMMARY:FIFTH WEEK
DESCRIPTION:
URL:https://vcaahi.org/event/fifth-week-58/
LOCATION:CA
END:VEVENT
BEGIN:VEVENT
DTSTART;VALUE=DATE:20230529
DTEND;VALUE=DATE:20230530
DTSTAMP:20260425T035347
CREATED:20230310T032908Z
LAST-MODIFIED:20230425T225203Z
UID:13953-1685318400-1685404799@vcaahi.org
SUMMARY:FIFTH WEEK
DESCRIPTION:
URL:https://vcaahi.org/event/fifth-week-57/
LOCATION:CA
END:VEVENT
BEGIN:VEVENT
DTSTART;TZID=UTC:20230528T080000
DTEND;TZID=UTC:20230528T170000
DTSTAMP:20260425T035347
CREATED:20230425T231525Z
LAST-MODIFIED:20230425T231525Z
UID:13990-1685260800-1685293200@vcaahi.org
SUMMARY:SOUTHERN CALIFORNIA H&I INTERGROUP (click for info)
DESCRIPTION:
URL:https://vcaahi.org/event/southern-california-hi-intergroup-click-for-info-10/
LOCATION:id: 290 755 6393 pw: 2091
END:VEVENT
BEGIN:VEVENT
DTSTART;TZID=UTC:20230528T080000
DTEND;TZID=UTC:20230528T170000
DTSTAMP:20260425T035347
CREATED:20230310T032032Z
LAST-MODIFIED:20230425T225255Z
UID:13942-1685260800-1685293200@vcaahi.org
SUMMARY:VCAAHI BOARD MEETING (click for info)
DESCRIPTION:
URL:https://vcaahi.org/event/vcaahi-board-meeting-click-for-info-17/
LOCATION:id 894 2953 3154 pw 448771
END:VEVENT
BEGIN:VEVENT
DTSTART;TZID=UTC:20230518T190000
DTEND;TZID=UTC:20230518T200000
DTSTAMP:20260425T035347
CREATED:20230425T230927Z
LAST-MODIFIED:20230425T230927Z
UID:13984-1684436400-1684440000@vcaahi.org
SUMMARY:DISTRICT 24 (click for info)
DESCRIPTION:
URL:https://vcaahi.org/event/district-24-click-for-info-14/
LOCATION:United Methodist Church Room 10 2394 Erringer Rd Simi Valley\, CA 93065\, 2394 Erringer Rd\, Simi Valley\, CA\, 93065
END:VEVENT
BEGIN:VEVENT
DTSTART;TZID=UTC:20230517T080000
DTEND;TZID=UTC:20230517T170000
DTSTAMP:20260425T035347
CREATED:20230425T231325Z
LAST-MODIFIED:20230425T231325Z
UID:13988-1684310400-1684342800@vcaahi.org
SUMMARY:GOLD COAST DISTRICT 9 & 12 ( clink for info)
DESCRIPTION:
URL:https://vcaahi.org/event/gold-coast-district-9-12-clink-for-info-7/
LOCATION:The Buck\, 321 N. Aviador St. Suite 111  Camarillo\, CA 93010\, 321 N. Aviador St. Suite 111 \, Camarillo\, CA\, 93010
END:VEVENT
BEGIN:VEVENT
DTSTART;TZID=UTC:20230516T080000
DTEND;TZID=UTC:20230516T170000
DTSTAMP:20260425T035347
CREATED:20230425T231156Z
LAST-MODIFIED:20230425T231156Z
UID:13986-1684224000-1684256400@vcaahi.org
SUMMARY:DISTRICT 28  (click for info)
DESCRIPTION:
URL:https://vcaahi.org/event/district-28-click-for-info-13/
LOCATION:King of Glory Church 2500 Borchard Rd Newbury Park\, CA
END:VEVENT
BEGIN:VEVENT
DTSTART;TZID=UTC:20230514T153000
DTEND;TZID=UTC:20230514T163000
DTSTAMP:20260425T035347
CREATED:20230425T231821Z
LAST-MODIFIED:20230425T231821Z
UID:13992-1684078200-1684081800@vcaahi.org
SUMMARY:VCAA CONVENTION PLANNING COMMITTEE (click for info)
DESCRIPTION:
URL:https://vcaahi.org/event/vcaa-convention-planning-committee-click-for-info-2/
LOCATION:The Buck\, 321 N. Aviador St. Suite 111  Camarillo\, CA 93010\, 321 N. Aviador St. Suite 111 \, Camarillo\, CA\, 93010
END:VEVENT
BEGIN:VEVENT
DTSTART;TZID=UTC:20230507T153000
DTEND;TZID=UTC:20230507T163000
DTSTAMP:20260425T035347
CREATED:20230310T032357Z
LAST-MODIFIED:20230425T225334Z
UID:13946-1683473400-1683477000@vcaahi.org
SUMMARY:VCAAHI COMMITTEE MEETING (click for info)
DESCRIPTION:
URL:https://vcaahi.org/event/vcaahi-committee-meeting-click-for-info-12/
LOCATION:The Buck\, 321 N. Aviador St. Suite 111  Camarillo\, CA 93010\, 321 N. Aviador St. Suite 111 \, Camarillo\, CA\, 93010
END:VEVENT
BEGIN:VEVENT
DTSTART;TZID=UTC:20230507T150000
DTEND;TZID=UTC:20230507T152000
DTSTAMP:20260425T035347
CREATED:20230425T224335Z
LAST-MODIFIED:20230425T224335Z
UID:13979-1683471600-1683472800@vcaahi.org
SUMMARY:VCAAHI ORIENTATION WORKSHOP (click for info)
DESCRIPTION:
URL:https://vcaahi.org/event/vcaahi-orientation-workshop-click-for-info-9/
LOCATION:The Buck\, 321 N. Aviador St. Suite 111  Camarillo\, CA 93010\, 321 N. Aviador St. Suite 111 \, Camarillo\, CA\, 93010
END:VEVENT
BEGIN:VEVENT
DTSTART;VALUE=DATE:20230505
DTEND;VALUE=DATE:20230508
DTSTAMP:20260425T035347
CREATED:20230310T030518Z
LAST-MODIFIED:20230425T225459Z
UID:13934-1683244800-1683503999@vcaahi.org
SUMMARY:40th Annual Southern California H&I Conference
DESCRIPTION:
URL:https://vcaahi.org/event/40th-annual-southern-california-hi-conference-click-for-info/
LOCATION:Apple Valley
END:VEVENT
BEGIN:VEVENT
DTSTART;TZID=UTC:20230503T190000
DTEND;TZID=UTC:20230503T200000
DTSTAMP:20260425T035347
CREATED:20230425T230636Z
LAST-MODIFIED:20230425T230646Z
UID:13982-1683140400-1683144000@vcaahi.org
SUMMARY:District 13 (click for info)
DESCRIPTION:
URL:https://vcaahi.org/event/district-13-click-for-info-14/
LOCATION:Ventura Center for Spiritual Living 101 S. Laurel\, Ventura\, CA 93001
END:VEVENT
BEGIN:VEVENT
DTSTART;TZID=UTC:20230430T160000
DTEND;TZID=UTC:20230430T163000
DTSTAMP:20260425T035347
CREATED:20230310T031852Z
LAST-MODIFIED:20230425T225622Z
UID:13940-1682870400-1682872200@vcaahi.org
SUMMARY:VCAAHI BOARD MEETING (click for info)
DESCRIPTION:
URL:https://vcaahi.org/event/vcaahi-board-meeting-click-for-info-16/
LOCATION:id 894 2953 3154 pw 448771
END:VEVENT
BEGIN:VEVENT
DTSTART;VALUE=DATE:20230430
DTEND;VALUE=DATE:20230501
DTSTAMP:20260425T035347
CREATED:20230310T032806Z
LAST-MODIFIED:20230425T225712Z
UID:13951-1682812800-1682899199@vcaahi.org
SUMMARY:FIFTH WEEK
DESCRIPTION:
URL:https://vcaahi.org/event/fifth-week-56/
LOCATION:CA
END:VEVENT
BEGIN:VEVENT
DTSTART;VALUE=DATE:20230429
DTEND;VALUE=DATE:20230430
DTSTAMP:20260425T035347
CREATED:20230310T032732Z
LAST-MODIFIED:20230310T032732Z
UID:13949-1682726400-1682812799@vcaahi.org
SUMMARY:FIFTH WEEK
DESCRIPTION:
URL:https://vcaahi.org/event/fifth-week-55/
LOCATION:CA
END:VEVENT
BEGIN:VEVENT
DTSTART;VALUE=DATE:20230428
DTEND;VALUE=DATE:20230501
DTSTAMP:20260425T035347
CREATED:20230425T222742Z
LAST-MODIFIED:20230425T223856Z
UID:13973-1682640000-1682899199@vcaahi.org
SUMMARY:Serenity by the Sea 2023 Roundup (click for info)
DESCRIPTION:
URL:https://vcaahi.org/event/serenity-by-the-sea-2023-roundup/
LOCATION:Ventura County Fairgrounds – 10 West Harbor Blvd. Ventura\, CA 93001
END:VEVENT
BEGIN:VEVENT
DTSTART;TZID=UTC:20230422T120000
DTEND;TZID=UTC:20230422T133000
DTSTAMP:20260425T035347
CREATED:20230425T221513Z
LAST-MODIFIED:20230425T221513Z
UID:13965-1682164800-1682170200@vcaahi.org
SUMMARY:SOUTHERN CALIFORNIA H&I INTERGROUP (click for info)
DESCRIPTION:
URL:https://vcaahi.org/event/southern-california-hi-intergroup-click-for-info-9/
LOCATION:id: 290 755 6393 pw: 2091
END:VEVENT
BEGIN:VEVENT
DTSTART;TZID=UTC:20230420T190000
DTEND;TZID=UTC:20230420T200000
DTSTAMP:20260425T035347
CREATED:20230425T221826Z
LAST-MODIFIED:20230425T221826Z
UID:13969-1682017200-1682020800@vcaahi.org
SUMMARY:DISTRICT 24 (click for info)
DESCRIPTION:
URL:https://vcaahi.org/event/district-24-click-for-info-13/
LOCATION:United Methodist Church Room 10 2394 Erringer Rd Simi Valley\, CA 93065\, 2394 Erringer Rd\, Simi Valley\, CA\, 93065
END:VEVENT
BEGIN:VEVENT
DTSTART;TZID=UTC:20230418T190000
DTEND;TZID=UTC:20230418T200000
DTSTAMP:20260425T035347
CREATED:20230425T222101Z
LAST-MODIFIED:20230425T222101Z
UID:13971-1681844400-1681848000@vcaahi.org
SUMMARY:DISTRICT 28  (click for info)
DESCRIPTION:
URL:https://vcaahi.org/event/district-28-click-for-info-12/
LOCATION:King of Glory Church 2500 Borchard Rd Newbury Park\, CA
END:VEVENT
BEGIN:VEVENT
DTSTART;TZID=UTC:20230405T190000
DTEND;TZID=UTC:20230405T200000
DTSTAMP:20260425T035347
CREATED:20230425T221659Z
LAST-MODIFIED:20230425T221659Z
UID:13967-1680721200-1680724800@vcaahi.org
SUMMARY:District 13 (click for info)
DESCRIPTION:
URL:https://vcaahi.org/event/district-13-click-for-info-13/
LOCATION:Ventura Center for Spiritual Living 101 S. Laurel\, Ventura\, CA 93001
END:VEVENT
BEGIN:VEVENT
DTSTART;TZID=UTC:20230402T150000
DTEND;TZID=UTC:20230402T152000
DTSTAMP:20260425T035347
CREATED:20230310T032233Z
LAST-MODIFIED:20230310T032233Z
UID:13944-1680447600-1680448800@vcaahi.org
SUMMARY:VCAAHI ORIENTATION WORKSHOP (click for info)
DESCRIPTION:
URL:https://vcaahi.org/event/vcaahi-orientation-workshop-click-for-info-8/
LOCATION:The Buck\, 321 N. Aviador St. Suite 111  Camarillo\, CA 93010\, 321 N. Aviador St. Suite 111 \, Camarillo\, CA\, 93010
END:VEVENT
BEGIN:VEVENT
DTSTART;VALUE=DATE:20230331
DTEND;VALUE=DATE:20230401
DTSTAMP:20260425T035347
CREATED:20230215T043038Z
LAST-MODIFIED:20230215T043038Z
UID:13909-1680220800-1680307199@vcaahi.org
SUMMARY:FIFTH WEEK
DESCRIPTION:
URL:https://vcaahi.org/event/fifth-week-54/
LOCATION:CA
END:VEVENT
BEGIN:VEVENT
DTSTART;VALUE=DATE:20230330
DTEND;VALUE=DATE:20230331
DTSTAMP:20260425T035347
CREATED:20230215T043001Z
LAST-MODIFIED:20230425T225424Z
UID:13907-1680134400-1680220799@vcaahi.org
SUMMARY:FIFTH WEEK
DESCRIPTION:
URL:https://vcaahi.org/event/fifth-week-53/
LOCATION:CA
END:VEVENT
BEGIN:VEVENT
DTSTART;VALUE=DATE:20230329
DTEND;VALUE=DATE:20230330
DTSTAMP:20260425T035347
CREATED:20230215T042924Z
LAST-MODIFIED:20230215T042924Z
UID:13905-1680048000-1680134399@vcaahi.org
SUMMARY:FIFTH WEEK
DESCRIPTION:
URL:https://vcaahi.org/event/fifth-week-52/
LOCATION:CA
END:VEVENT
BEGIN:VEVENT
DTSTART;TZID=UTC:20230326T160000
DTEND;TZID=UTC:20230326T163000
DTSTAMP:20260425T035347
CREATED:20230310T031558Z
LAST-MODIFIED:20230310T031558Z
UID:13938-1679846400-1679848200@vcaahi.org
SUMMARY:VCAAHI BOARD MEETING (click for info)
DESCRIPTION:
URL:https://vcaahi.org/event/vcaahi-board-meeting-click-for-info-15/
LOCATION:id 894 2953 3154 pw 448771
END:VEVENT
BEGIN:VEVENT
DTSTART;TZID=UTC:20230326T120000
DTEND;TZID=UTC:20230326T133000
DTSTAMP:20260425T035347
CREATED:20230310T025742Z
LAST-MODIFIED:20230310T030127Z
UID:13932-1679832000-1679837400@vcaahi.org
SUMMARY:SOUTHERN CALIFORNIA H&I INTERGROUP (click for info)
DESCRIPTION:
URL:https://vcaahi.org/event/southern-california-hi-intergroup-click-for-info-8/
LOCATION:id: 290 755 6393 pw: 2091
END:VEVENT
BEGIN:VEVENT
DTSTART;TZID=UTC:20230325T180000
DTEND;TZID=UTC:20230325T210000
DTSTAMP:20260425T035347
CREATED:20230310T023652Z
LAST-MODIFIED:20230310T023836Z
UID:13917-1679767200-1679778000@vcaahi.org
SUMMARY:Serenity By The Sea Presents BINGO (click for info)
DESCRIPTION:
URL:https://vcaahi.org/event/serenity-by-the-sea-presents-bingo/
LOCATION:Freedon Center – 515 Eubanks St  Camarillo\, California 93010\, 515 Eubanks\, Camarillo\, CA\, 93010
END:VEVENT
BEGIN:VEVENT
DTSTART;TZID=UTC:20230321T190000
DTEND;TZID=UTC:20230321T200000
DTSTAMP:20260425T035347
CREATED:20230310T025349Z
LAST-MODIFIED:20230310T025349Z
UID:13928-1679425200-1679428800@vcaahi.org
SUMMARY:DISTRICT 28  (click for info)
DESCRIPTION:
URL:https://vcaahi.org/event/district-28-click-for-info-11/
LOCATION:King of Glory Church 2500 Borchard Rd Newbury Park\, CA
END:VEVENT
BEGIN:VEVENT
DTSTART;TZID=UTC:20230319T153000
DTEND;TZID=UTC:20230319T163000
DTSTAMP:20260425T035347
CREATED:20230310T024055Z
LAST-MODIFIED:20230310T024058Z
UID:13921-1679239800-1679243400@vcaahi.org
SUMMARY:VCAA CONVENTION PLANNING COMMITTEE (click for info)
DESCRIPTION:
URL:https://vcaahi.org/event/vcaa-convention-planning-committee-click-for-info/
LOCATION:The Buck\, 321 N. Aviador St. Suite 111  Camarillo\, CA 93010\, 321 N. Aviador St. Suite 111 \, Camarillo\, CA\, 93010
END:VEVENT
END:VCALENDAR