BEGIN:VCALENDAR
VERSION:2.0
PRODID:-//Ventura County H&amp;I - ECPv6.15.20//NONSGML v1.0//EN
CALSCALE:GREGORIAN
METHOD:PUBLISH
X-WR-CALNAME:Ventura County H&amp;I
X-ORIGINAL-URL:https://vcaahi.org
X-WR-CALDESC:Events for Ventura County H&amp;I
REFRESH-INTERVAL;VALUE=DURATION:PT1H
X-Robots-Tag:noindex
X-PUBLISHED-TTL:PT1H
BEGIN:VTIMEZONE
TZID:America/Los_Angeles
BEGIN:DAYLIGHT
TZOFFSETFROM:-0800
TZOFFSETTO:-0700
TZNAME:PDT
DTSTART:20230312T100000
END:DAYLIGHT
BEGIN:STANDARD
TZOFFSETFROM:-0700
TZOFFSETTO:-0800
TZNAME:PST
DTSTART:20231105T090000
END:STANDARD
BEGIN:DAYLIGHT
TZOFFSETFROM:-0800
TZOFFSETTO:-0700
TZNAME:PDT
DTSTART:20240310T100000
END:DAYLIGHT
BEGIN:STANDARD
TZOFFSETFROM:-0700
TZOFFSETTO:-0800
TZNAME:PST
DTSTART:20241103T090000
END:STANDARD
BEGIN:DAYLIGHT
TZOFFSETFROM:-0800
TZOFFSETTO:-0700
TZNAME:PDT
DTSTART:20250309T100000
END:DAYLIGHT
BEGIN:STANDARD
TZOFFSETFROM:-0700
TZOFFSETTO:-0800
TZNAME:PST
DTSTART:20251102T090000
END:STANDARD
END:VTIMEZONE
BEGIN:VTIMEZONE
TZID:UTC
BEGIN:STANDARD
TZOFFSETFROM:+0000
TZOFFSETTO:+0000
TZNAME:UTC
DTSTART:20220101T000000
END:STANDARD
END:VTIMEZONE
BEGIN:VEVENT
DTSTART;TZID=America/Los_Angeles:20240224T093000
DTEND;TZID=America/Los_Angeles:20240224T160000
DTSTAMP:20260425T053051
CREATED:20240201T014559Z
LAST-MODIFIED:20240201T014559Z
UID:14076-1708767000-1708790400@vcaahi.org
SUMMARY:Gold Coast District Traditions Workshop
DESCRIPTION:How best to apply AA’s 12 Traditions! \n4 experienced speakers \nQ&A Session and discussion \nFree lunch provided! \nHosted by the Gold Coast Combined District. \nRoger Jones Community Center \n2864 Jourdan Street\, Oxnard
URL:https://vcaahi.org/event/gold-coast-district-traditions-workshop/
LOCATION:Roger Jones Community Center\, 2864 Jourdan Street\, Oxnard\, CA\, 93036\, United States
END:VEVENT
BEGIN:VEVENT
DTSTART;TZID=America/Los_Angeles:20240218T080000
DTEND;TZID=America/Los_Angeles:20240218T170000
DTSTAMP:20260425T053051
CREATED:20240201T015441Z
LAST-MODIFIED:20240201T015441Z
UID:14087-1708243200-1708275600@vcaahi.org
SUMMARY:Area 93 Assembly - February 2024
DESCRIPTION:Agenda is pending; see event site for details.
URL:https://vcaahi.org/event/area-93-assembly-february-2024/
LOCATION:Solvang Veterans Memorial Hall\, 1745 Mission Dr.\, Solvang\, CA\, 93463\, United States
END:VEVENT
BEGIN:VEVENT
DTSTART;TZID=America/Los_Angeles:20240204T151500
DTEND;TZID=America/Los_Angeles:20240204T163000
DTSTAMP:20260425T053051
CREATED:20240201T022547Z
LAST-MODIFIED:20240201T022807Z
UID:14114-1707059700-1707064200@vcaahi.org
SUMMARY:February 2024 VCAAHI Committee Meeting + Orientation
DESCRIPTION:WHEN\nSunday\, December 3\, 2023\n3:15 pm Committee Meeting\n4:15 pm Orientation for new members
URL:https://vcaahi.org/event/feb-2024-vcaahi-meeting/
LOCATION:The Buck\, 321 N. Aviador St. Suite 111  Camarillo\, CA 93010\, 321 N. Aviador St. Suite 111 \, Camarillo\, CA\, 93010
END:VEVENT
BEGIN:VEVENT
DTSTART;TZID=America/Los_Angeles:20240203T180000
DTEND;TZID=America/Los_Angeles:20240203T213000
DTSTAMP:20260425T053051
CREATED:20240201T014034Z
LAST-MODIFIED:20240201T022140Z
UID:14073-1706983200-1706995800@vcaahi.org
SUMMARY:Pig Roast Super Bowl Bingo and BBQ
DESCRIPTION:Superbowl Bingo & BBQ Fundraise: Santa Paula Pig Roast\n$25 per person \n$10 kids (13-28) \nFor more details\, see the flyer at the link under “Details” in the right-hand column. \nContact: bbq@santapaulapigroast.com \nMission Church\n5353 Walker St. \nVentura\, CA 93003
URL:https://vcaahi.org/event/pig-roast-super-bowl-bingo-and-bbq/
END:VEVENT
BEGIN:VEVENT
DTSTART;VALUE=DATE:20231215
DTEND;VALUE=DATE:20231218
DTSTAMP:20260425T053051
CREATED:20231126T071310Z
LAST-MODIFIED:20231126T071310Z
UID:14059-1702598400-1702857599@vcaahi.org
SUMMARY:HBMS Retreat
DESCRIPTION:Overview\n\n\nHermosa Beach Men’s Stag (HBMS) group of men practicing the twelve steps of Alcoholics Anonymous. HBMS has a weekly meeting at the Hermosa Beach Alano Club from 8:30 PM – 10:00 PM. The primary focus of the HBMS group is working with another Alcoholic. HBMS has a yearly retreat at the Serra Retreat Center in Malibu. This year the retreat is Dec 15 – Dec 17\, 2023. Hope to see you there. \nClick Here for more info.
URL:https://vcaahi.org/event/hbms-retreat/
END:VEVENT
BEGIN:VEVENT
DTSTART;TZID=UTC:20231209T100000
DTEND;TZID=UTC:20231209T110000
DTSTAMP:20260425T053051
CREATED:20231203T041006Z
LAST-MODIFIED:20231203T041006Z
UID:14069-1702116000-1702119600@vcaahi.org
SUMMARY:District 28’s 11th Step Winter Workshop
DESCRIPTION:Workshop Theme\, Step Eleven\n“Sought through prayer and meditation to improve our conscious contact with God as we understood Him\, praying only for knowledge of His will for us and the power to carry that out.” \nAgenda\nThe detailed agenda will include a “Key Note Speaker”\, Group Work with participants and Q&A with the organizers to learn how to practice this step in our daily lives. \nInformation\nPlease let us know if you plan on attending by sending a short note to Matthew R at mrsci68@gmail.com For more information or questions\, please call Christine C. (805)390-7244 or Matthew R. (805)405-5750 \nDOWNLOAD FLYER
URL:https://vcaahi.org/event/district-28s-11th-step-winter-workshop/
END:VEVENT
BEGIN:VEVENT
DTSTART;TZID=UTC:20231209T080000
DTEND;TZID=UTC:20231209T160000
DTSTAMP:20260425T053051
CREATED:20231126T062238Z
LAST-MODIFIED:20231126T062238Z
UID:14056-1702108800-1702137600@vcaahi.org
SUMMARY:8th Hispanic Women’s Workshop
DESCRIPTION:Hybrid Event\nAttend in person or on Zoom \nAddress: Westminister Presbyterian Church 1757 N. Lake Ave.\, Pasadena\, CA\, United States \nZoom ID: 891-3842-5577 \nPW: area05
URL:https://vcaahi.org/event/8th-hispanic-womens-workshop/
END:VEVENT
BEGIN:VEVENT
DTSTART;TZID=UTC:20231203T151500
DTEND;TZID=UTC:20231203T163000
DTSTAMP:20260425T053051
CREATED:20231126T071700Z
LAST-MODIFIED:20231126T071827Z
UID:14062-1701616500-1701621000@vcaahi.org
SUMMARY:VCAAHI Committee Meeting + Orientation
DESCRIPTION:WHEN\nSunday\, December 3\, 2023\n3:15 pm Committee Meeting\n4:15 pm Orientation for new members\n\n \nWHERE\nThe Buck\n321 N Aviador St\, Suite 115\nCamarillo CA 93010
URL:https://vcaahi.org/event/vcaahi-committee-meeting-orientation/
END:VEVENT
BEGIN:VEVENT
DTSTART;TZID=UTC:20231203T110000
DTEND;TZID=UTC:20231203T140000
DTSTAMP:20260425T053051
CREATED:20231126T060142Z
LAST-MODIFIED:20231126T061617Z
UID:14050-1701601200-1701612000@vcaahi.org
SUMMARY:Inter-Area Remote Communities Forum
DESCRIPTION:Zoom Event CA\, United States – Visit area93 for more info.
URL:https://vcaahi.org/event/inter-area-remote-communities-forum/
END:VEVENT
BEGIN:VEVENT
DTSTART;TZID=UTC:20230723T120000
DTEND;TZID=UTC:20230723T133000
DTSTAMP:20260425T053051
CREATED:20230703T035154Z
LAST-MODIFIED:20230703T035154Z
UID:14042-1690113600-1690119000@vcaahi.org
SUMMARY:SOUTHERN CALIFORNIA H&I INTERGROUP (click for info)
DESCRIPTION:
URL:https://vcaahi.org/event/southern-california-hi-intergroup-click-for-info-12/
LOCATION:id: 290 755 6393 pw: 2091
END:VEVENT
BEGIN:VEVENT
DTSTART;TZID=UTC:20230720T190000
DTEND;TZID=UTC:20230720T200000
DTSTAMP:20260425T053051
CREATED:20230703T034653Z
LAST-MODIFIED:20230703T034653Z
UID:14035-1689879600-1689883200@vcaahi.org
SUMMARY:DISTRICT 24 (click for info)
DESCRIPTION:
URL:https://vcaahi.org/event/district-24-click-for-info-16/
LOCATION:United Methodist Church Room 10 2394 Erringer Rd Simi Valley\, CA 93065\, 2394 Erringer Rd\, Simi Valley\, CA\, 93065
END:VEVENT
BEGIN:VEVENT
DTSTART;TZID=UTC:20230719T190000
DTEND;TZID=UTC:20230719T200000
DTSTAMP:20260425T053051
CREATED:20230703T034949Z
LAST-MODIFIED:20230703T035011Z
UID:14040-1689793200-1689796800@vcaahi.org
SUMMARY:GOLD COAST DISTRICT 9 & 12 ( clink for info)
DESCRIPTION:
URL:https://vcaahi.org/event/gold-coast-district-9-12-clink-for-info-9/
LOCATION:The Buck\, 321 N. Aviador St. Suite 111  Camarillo\, CA 93010\, 321 N. Aviador St. Suite 111 \, Camarillo\, CA\, 93010
END:VEVENT
BEGIN:VEVENT
DTSTART;TZID=UTC:20230718T190000
DTEND;TZID=UTC:20230718T200000
DTSTAMP:20260425T053051
CREATED:20230703T034827Z
LAST-MODIFIED:20230703T034827Z
UID:14038-1689706800-1689710400@vcaahi.org
SUMMARY:DISTRICT 28  (click for info)
DESCRIPTION:
URL:https://vcaahi.org/event/district-28-click-for-info-15/
LOCATION:King of Glory Church 2500 Borchard Rd Newbury Park\, CA
END:VEVENT
BEGIN:VEVENT
DTSTART;TZID=UTC:20230709T153000
DTEND;TZID=UTC:20230709T163000
DTSTAMP:20260425T053051
CREATED:20230703T035309Z
LAST-MODIFIED:20230703T035350Z
UID:14044-1688916600-1688920200@vcaahi.org
SUMMARY:VCAA CONVENTION PLANNING COMMITTEE (click for info
DESCRIPTION:
URL:https://vcaahi.org/event/vcaa-convention-planning-committee-click-for-info-4/
LOCATION:The Buck\, 321 N. Aviador St. Suite 111  Camarillo\, CA 93010\, 321 N. Aviador St. Suite 111 \, Camarillo\, CA\, 93010
END:VEVENT
BEGIN:VEVENT
DTSTART;TZID=UTC:20230705T190000
DTEND;TZID=UTC:20230705T200000
DTSTAMP:20260425T053051
CREATED:20230703T034523Z
LAST-MODIFIED:20230703T034523Z
UID:14033-1688583600-1688587200@vcaahi.org
SUMMARY:District 13 (click for info)
DESCRIPTION:
URL:https://vcaahi.org/event/district-13-click-for-info-16/
LOCATION:Ventura Center for Spiritual Living 101 S. Laurel\, Ventura\, CA 93001
END:VEVENT
BEGIN:VEVENT
DTSTART;TZID=UTC:20230702T150000
DTEND;TZID=UTC:20230702T152000
DTSTAMP:20260425T053051
CREATED:20230703T034235Z
LAST-MODIFIED:20230703T034235Z
UID:14029-1688310000-1688311200@vcaahi.org
SUMMARY:VCAAHI ORIENTATION WORKSHOP (click for info)
DESCRIPTION:
URL:https://vcaahi.org/event/vcaahi-orientation-workshop-click-for-info-11/
LOCATION:The Buck\, 321 N. Aviador St. Suite 111  Camarillo\, CA 93010\, 321 N. Aviador St. Suite 111 \, Camarillo\, CA\, 93010
END:VEVENT
BEGIN:VEVENT
DTSTART;TZID=UTC:20230702T033000
DTEND;TZID=UTC:20230702T163000
DTSTAMP:20260425T053051
CREATED:20230703T034343Z
LAST-MODIFIED:20230703T034343Z
UID:14031-1688268600-1688315400@vcaahi.org
SUMMARY:VCAAHI COMMITTEE MEETING (click for info)
DESCRIPTION:
URL:https://vcaahi.org/event/vcaahi-committee-meeting-click-for-info-14/
LOCATION:The Buck\, 321 N. Aviador St. Suite 111  Camarillo\, CA 93010\, 321 N. Aviador St. Suite 111 \, Camarillo\, CA\, 93010
END:VEVENT
BEGIN:VEVENT
DTSTART;VALUE=DATE:20230630
DTEND;VALUE=DATE:20230701
DTSTAMP:20260425T053051
CREATED:20230602T003856Z
LAST-MODIFIED:20230602T003856Z
UID:14017-1688083200-1688169599@vcaahi.org
SUMMARY:FIFTH WEEK
DESCRIPTION:
URL:https://vcaahi.org/event/fifth-week-61/
END:VEVENT
BEGIN:VEVENT
DTSTART;VALUE=DATE:20230629
DTEND;VALUE=DATE:20230630
DTSTAMP:20260425T053051
CREATED:20230602T003740Z
LAST-MODIFIED:20230602T003740Z
UID:14015-1687996800-1688083199@vcaahi.org
SUMMARY:FIFTH WEEK
DESCRIPTION:
URL:https://vcaahi.org/event/fifth-week-60/
END:VEVENT
BEGIN:VEVENT
DTSTART;TZID=UTC:20230625T120000
DTEND;TZID=UTC:20230625T133000
DTSTAMP:20260425T053051
CREATED:20230602T003608Z
LAST-MODIFIED:20230602T042831Z
UID:14013-1687694400-1687699800@vcaahi.org
SUMMARY:SOUTHERN CALIFORNIA H&I INTERGROUP (click for info)
DESCRIPTION:
URL:https://vcaahi.org/event/southern-california-hi-intergroup-click-for-info-11/
LOCATION:id: 290 755 6393 pw: 2091
END:VEVENT
BEGIN:VEVENT
DTSTART;TZID=UTC:20230625T080000
DTEND;TZID=UTC:20230625T170000
DTSTAMP:20260425T053051
CREATED:20230602T002049Z
LAST-MODIFIED:20230602T002049Z
UID:14000-1687680000-1687712400@vcaahi.org
SUMMARY:VCAAHI BOARD MEETING (click for info)
DESCRIPTION:
URL:https://vcaahi.org/event/vcaahi-board-meeting-click-for-info-18/
LOCATION:id 894 2953 3154 pw 448771
END:VEVENT
BEGIN:VEVENT
DTSTART;TZID=UTC:20230621T190000
DTEND;TZID=UTC:20230621T200000
DTSTAMP:20260425T053051
CREATED:20230602T003239Z
LAST-MODIFIED:20230602T003239Z
UID:14011-1687374000-1687377600@vcaahi.org
SUMMARY:GOLD COAST DISTRICT 9 & 12 ( clink for info)
DESCRIPTION:
URL:https://vcaahi.org/event/gold-coast-district-9-12-clink-for-info-8/
LOCATION:The Buck\, 321 N. Aviador St. Suite 111  Camarillo\, CA 93010\, 321 N. Aviador St. Suite 111 \, Camarillo\, CA\, 93010
END:VEVENT
BEGIN:VEVENT
DTSTART;TZID=UTC:20230620T190000
DTEND;TZID=UTC:20230620T200000
DTSTAMP:20260425T053051
CREATED:20230602T003057Z
LAST-MODIFIED:20230602T003421Z
UID:14009-1687287600-1687291200@vcaahi.org
SUMMARY:DISTRICT 28  (click for info)
DESCRIPTION:
URL:https://vcaahi.org/event/district-28-click-for-info-14/
LOCATION:King of Glory Church 2500 Borchard Rd Newbury Park\, CA
END:VEVENT
BEGIN:VEVENT
DTSTART;TZID=UTC:20230615T190000
DTEND;TZID=UTC:20230615T200000
DTSTAMP:20260425T053051
CREATED:20230602T002913Z
LAST-MODIFIED:20230602T002913Z
UID:14007-1686855600-1686859200@vcaahi.org
SUMMARY:DISTRICT 24 (click for info)
DESCRIPTION:
URL:https://vcaahi.org/event/district-24-click-for-info-15/
LOCATION:United Methodist Church Room 10 2394 Erringer Rd Simi Valley\, CA 93065\, 2394 Erringer Rd\, Simi Valley\, CA\, 93065
END:VEVENT
BEGIN:VEVENT
DTSTART;TZID=UTC:20230611T033000
DTEND;TZID=UTC:20230611T163000
DTSTAMP:20260425T053051
CREATED:20230602T002337Z
LAST-MODIFIED:20230602T002337Z
UID:14003-1686454200-1686501000@vcaahi.org
SUMMARY:VCAA CONVENTION PLANNING COMMITTEE (click for info)
DESCRIPTION:
URL:https://vcaahi.org/event/vcaa-convention-planning-committee-click-for-info-3/
LOCATION:The Buck\, 321 N. Aviador St. Suite 111  Camarillo\, CA 93010\, 321 N. Aviador St. Suite 111 \, Camarillo\, CA\, 93010
END:VEVENT
BEGIN:VEVENT
DTSTART;TZID=UTC:20230610T090000
DTEND;TZID=UTC:20230610T130000
DTSTAMP:20260425T053051
CREATED:20230602T004718Z
LAST-MODIFIED:20230602T042105Z
UID:14019-1686387600-1686402000@vcaahi.org
SUMMARY:District 24 Founder’s Day Workshop (click for info)
DESCRIPTION:
URL:https://vcaahi.org/event/district-24-founders-day-workshop/
LOCATION:Simi Valley Senior Center – 3900 Avenida Simi  Simi Valley\, 93063
END:VEVENT
BEGIN:VEVENT
DTSTART;TZID=UTC:20230607T190000
DTEND;TZID=UTC:20230607T200000
DTSTAMP:20260425T053051
CREATED:20230602T002556Z
LAST-MODIFIED:20230602T002701Z
UID:14005-1686164400-1686168000@vcaahi.org
SUMMARY:District 13 (click for info)
DESCRIPTION:
URL:https://vcaahi.org/event/district-13-click-for-info-15/
LOCATION:Ventura Center for Spiritual Living 101 S. Laurel\, Ventura\, CA 93001
END:VEVENT
BEGIN:VEVENT
DTSTART;TZID=UTC:20230604T153000
DTEND;TZID=UTC:20230604T163000
DTSTAMP:20260425T053051
CREATED:20230602T001923Z
LAST-MODIFIED:20230602T001923Z
UID:13998-1685892600-1685896200@vcaahi.org
SUMMARY:VCAAHI COMMITTEE MEETING (click for info)
DESCRIPTION:
URL:https://vcaahi.org/event/vcaahi-committee-meeting-click-for-info-13/
LOCATION:The Buck\, 321 N. Aviador St. Suite 111  Camarillo\, CA 93010\, 321 N. Aviador St. Suite 111 \, Camarillo\, CA\, 93010
END:VEVENT
BEGIN:VEVENT
DTSTART;TZID=UTC:20230604T150000
DTEND;TZID=UTC:20230604T152000
DTSTAMP:20260425T053051
CREATED:20230602T001307Z
LAST-MODIFIED:20230602T001307Z
UID:13996-1685890800-1685892000@vcaahi.org
SUMMARY:VCAAHI ORIENTATION WORKSHOP (click for info)
DESCRIPTION:
URL:https://vcaahi.org/event/vcaahi-orientation-workshop-click-for-info-10/
LOCATION:The Buck\, 321 N. Aviador St. Suite 111  Camarillo\, CA 93010\, 321 N. Aviador St. Suite 111 \, Camarillo\, CA\, 93010
END:VEVENT
BEGIN:VEVENT
DTSTART;VALUE=DATE:20230531
DTEND;VALUE=DATE:20230601
DTSTAMP:20260425T053051
CREATED:20230310T033205Z
LAST-MODIFIED:20230425T224432Z
UID:13959-1685491200-1685577599@vcaahi.org
SUMMARY:FIFTH WEEK
DESCRIPTION:
URL:https://vcaahi.org/event/fifth-week-59/
END:VEVENT
END:VCALENDAR