BEGIN:VCALENDAR
VERSION:2.0
PRODID:-//Ventura County H&amp;I - ECPv6.15.20//NONSGML v1.0//EN
CALSCALE:GREGORIAN
METHOD:PUBLISH
X-WR-CALNAME:Ventura County H&amp;I
X-ORIGINAL-URL:https://vcaahi.org
X-WR-CALDESC:Events for Ventura County H&amp;I
REFRESH-INTERVAL;VALUE=DURATION:PT1H
X-Robots-Tag:noindex
X-PUBLISHED-TTL:PT1H
BEGIN:VTIMEZONE
TZID:UTC
BEGIN:STANDARD
TZOFFSETFROM:+0000
TZOFFSETTO:+0000
TZNAME:UTC
DTSTART:20210101T000000
END:STANDARD
END:VTIMEZONE
BEGIN:VEVENT
DTSTART;TZID=UTC:20220615T190000
DTEND;TZID=UTC:20220615T200000
DTSTAMP:20260425T211357
CREATED:20220531T012254Z
LAST-MODIFIED:20220531T012254Z
UID:13467-1655319600-1655323200@vcaahi.org
SUMMARY:Gold Coast (click for info)
DESCRIPTION:
URL:https://vcaahi.org/event/gold-coast-click-for-info-2/
LOCATION:The Buck\, 321 N. Aviador St. Suite 111  Camarillo\, CA 93010\, 321 N. Aviador St. Suite 111 \, Camarillo\, CA\, 93010
END:VEVENT
BEGIN:VEVENT
DTSTART;TZID=UTC:20220612T184000
DTEND;TZID=UTC:20220612T185000
DTSTAMP:20260425T211357
CREATED:20220531T011705Z
LAST-MODIFIED:20220531T011705Z
UID:13463-1655059200-1655059800@vcaahi.org
SUMMARY:VCAAHI New Member Orientation (click for info)
DESCRIPTION:
URL:https://vcaahi.org/event/vcaahi-new-member-orientation-click-for-info-2/
LOCATION:CA
END:VEVENT
BEGIN:VEVENT
DTSTART;TZID=UTC:20220612T173000
DTEND;TZID=UTC:20220612T183000
DTSTAMP:20260425T211357
CREATED:20220531T011551Z
LAST-MODIFIED:20220531T011551Z
UID:13461-1655055000-1655058600@vcaahi.org
SUMMARY:VCAAHI Committee Meeting (click for info)
DESCRIPTION:
URL:https://vcaahi.org/event/vcaahi-committee-meeting-click-for-info-3/
LOCATION:id 894 2953 3154 pw 448771
END:VEVENT
BEGIN:VEVENT
DTSTART;TZID=UTC:20220610T183000
DTEND;TZID=UTC:20220610T213000
DTSTAMP:20260425T211357
CREATED:20220531T022553Z
LAST-MODIFIED:20220531T023509Z
UID:13476-1654885800-1654896600@vcaahi.org
SUMMARY:Founder’s Day Social (click for info)
DESCRIPTION:
URL:https://vcaahi.org/event/founders-day-social-click-for-info/
LOCATION:Oxnard Performing Arts Center\, 800 Hobson Way\, Oxnard\, CA\, 93030
END:VEVENT
BEGIN:VEVENT
DTSTART;VALUE=DATE:20220603
DTEND;VALUE=DATE:20220606
DTSTAMP:20260425T211357
CREATED:20220531T021542Z
LAST-MODIFIED:20220531T022230Z
UID:13473-1654214400-1654473599@vcaahi.org
SUMMARY:Woman to Woman 41st Annual Caring & Sharing Weekend (click for info)
DESCRIPTION:
URL:https://vcaahi.org/event/woman-to-woman-41st-annual-caring-sharing-weekend-click-for-info/
LOCATION:Mount St. Mary’s University 12001 Chalon Road Los Angeles\, CA 90049
END:VEVENT
BEGIN:VEVENT
DTSTART;TZID=UTC:20220601T180000
DTEND;TZID=UTC:20220601T190000
DTSTAMP:20260425T211357
CREATED:20220407T052106Z
LAST-MODIFIED:20220407T052106Z
UID:13415-1654106400-1654110000@vcaahi.org
SUMMARY:District 13 (click for info)
DESCRIPTION:
URL:https://vcaahi.org/event/district-13-click-for-info-3/
LOCATION:Ventura Center for Spiritual Living 101 S. Laurel\, Ventura\, CA 93001
END:VEVENT
BEGIN:VEVENT
DTSTART;VALUE=DATE:20220531
DTEND;VALUE=DATE:20220601
DTSTAMP:20260425T211357
CREATED:20220407T053206Z
LAST-MODIFIED:20220407T053206Z
UID:13428-1653955200-1654041599@vcaahi.org
SUMMARY:FIFTH WEEK
DESCRIPTION:
URL:https://vcaahi.org/event/fifth-week-28/
LOCATION:CA
END:VEVENT
BEGIN:VEVENT
DTSTART;VALUE=DATE:20220530
DTEND;VALUE=DATE:20220531
DTSTAMP:20260425T211357
CREATED:20220407T052959Z
LAST-MODIFIED:20220407T053015Z
UID:13426-1653868800-1653955199@vcaahi.org
SUMMARY:FIFTH WEEK
DESCRIPTION:
URL:https://vcaahi.org/event/fifth-week-27/
LOCATION:CA
END:VEVENT
BEGIN:VEVENT
DTSTART;VALUE=DATE:20220529
DTEND;VALUE=DATE:20220530
DTSTAMP:20260425T211357
CREATED:20220407T053257Z
LAST-MODIFIED:20220407T053257Z
UID:13430-1653782400-1653868799@vcaahi.org
SUMMARY:FIFTH WEEK
DESCRIPTION:
URL:https://vcaahi.org/event/fifth-week-29/
LOCATION:CA
END:VEVENT
BEGIN:VEVENT
DTSTART;VALUE=DATE:20220527
DTEND;VALUE=DATE:20220530
DTSTAMP:20260425T211357
CREATED:20220407T054745Z
LAST-MODIFIED:20220407T054933Z
UID:13438-1653609600-1653868799@vcaahi.org
SUMMARY:So. Cal. Hospitals and Institutions Intergroup 2022 Conference (click for info)
DESCRIPTION:
URL:https://vcaahi.org/event/so-cal-hospitals-and-institutions-intergroup-2022-conference/
LOCATION:39707 Big Bear Blvd. Big Bear Lake\, CA 92315. P.O. 10000
END:VEVENT
BEGIN:VEVENT
DTSTART;TZID=UTC:20220522T080000
DTEND;TZID=UTC:20220522T170000
DTSTAMP:20260425T211357
CREATED:20220407T052449Z
LAST-MODIFIED:20220407T052551Z
UID:13421-1653206400-1653238800@vcaahi.org
SUMMARY:Southern California H&I Intergroup (click for info)
DESCRIPTION:
URL:https://vcaahi.org/event/district-24-click-for-info-3/
LOCATION:id: 290 755 6393 pw: 2091
END:VEVENT
BEGIN:VEVENT
DTSTART;TZID=UTC:20220519T190000
DTEND;TZID=UTC:20220519T200000
DTSTAMP:20260425T211357
CREATED:20220407T052835Z
LAST-MODIFIED:20220407T052835Z
UID:13424-1652986800-1652990400@vcaahi.org
SUMMARY:District 24 (click for info)
DESCRIPTION:
URL:https://vcaahi.org/event/district-24-click-for-info-4/
LOCATION:United Methodist Church Room 10 2394 Erringer Rd Simi Valley\, CA 93065\, 2394 Erringer Rd\, Simi Valley\, CA\, 93065
END:VEVENT
BEGIN:VEVENT
DTSTART;TZID=UTC:20220518T190000
DTEND;TZID=UTC:20220518T200000
DTSTAMP:20260425T211357
CREATED:20220407T052332Z
LAST-MODIFIED:20220407T052332Z
UID:13419-1652900400-1652904000@vcaahi.org
SUMMARY:Gold Coast (click for info)
DESCRIPTION:
URL:https://vcaahi.org/event/gold-coast-click-for-info/
LOCATION:The Buck\, 321 N. Aviador St. Suite 111  Camarillo\, CA 93010\, 321 N. Aviador St. Suite 111 \, Camarillo\, CA\, 93010
END:VEVENT
BEGIN:VEVENT
DTSTART;TZID=UTC:20220517T190000
DTEND;TZID=UTC:20220517T200000
DTSTAMP:20260425T211357
CREATED:20220407T052215Z
LAST-MODIFIED:20220407T052215Z
UID:13417-1652814000-1652817600@vcaahi.org
SUMMARY:District 28 (click for info)
DESCRIPTION:
URL:https://vcaahi.org/event/district-28-click-for-info-3/
LOCATION:King of Glory Church 2500 Borchard Rd Newbury Park\, CA
END:VEVENT
BEGIN:VEVENT
DTSTART;TZID=UTC:20220515T184000
DTEND;TZID=UTC:20220515T185000
DTSTAMP:20260425T211357
CREATED:20220412T032811Z
LAST-MODIFIED:20220412T032820Z
UID:13453-1652640000-1652640600@vcaahi.org
SUMMARY:VCAAHI New Member Orientation (click for info)
DESCRIPTION:
URL:https://vcaahi.org/event/vcaahi-new-member-orientation-click-for-info/
LOCATION:id 894 2953 3154 pw 448771
END:VEVENT
BEGIN:VEVENT
DTSTART;TZID=UTC:20220515T173000
DTEND;TZID=UTC:20220515T183000
DTSTAMP:20260425T211357
CREATED:20220412T032606Z
LAST-MODIFIED:20220412T032617Z
UID:13451-1652635800-1652639400@vcaahi.org
SUMMARY:VCAAHI Committee Meeting (click for info)
DESCRIPTION:
URL:https://vcaahi.org/event/vcaahi-committee-meeting-click-for-info-2/
LOCATION:id 894 2953 3154 pw 448771
END:VEVENT
BEGIN:VEVENT
DTSTART;TZID=UTC:20220515T163000
DTEND;TZID=UTC:20220515T173000
DTSTAMP:20260425T211357
CREATED:20220412T032223Z
LAST-MODIFIED:20220412T032223Z
UID:13448-1652632200-1652635800@vcaahi.org
SUMMARY:VCAAHI Board Meeting (click for info)
DESCRIPTION:
URL:https://vcaahi.org/event/vcaahi-board-meeting-click-for-info-2/
LOCATION:id 894 2953 3154 pw 448771
END:VEVENT
BEGIN:VEVENT
DTSTART;TZID=UTC:20220504T180000
DTEND;TZID=UTC:20220504T190000
DTSTAMP:20260425T211357
CREATED:20220407T051549Z
LAST-MODIFIED:20220407T051659Z
UID:13413-1651687200-1651690800@vcaahi.org
SUMMARY:District 13 (click for info)
DESCRIPTION:
URL:https://vcaahi.org/event/district-13-click-for-info-2/
LOCATION:Ventura Center for Spiritual Living 101 S. Laurel\, Ventura\, CA 93001
END:VEVENT
BEGIN:VEVENT
DTSTART;VALUE=DATE:20220430
DTEND;VALUE=DATE:20220501
DTSTAMP:20260425T211357
CREATED:20220407T011812Z
LAST-MODIFIED:20220407T011812Z
UID:13400-1651276800-1651363199@vcaahi.org
SUMMARY:FIFTH WEEK
DESCRIPTION:
URL:https://vcaahi.org/event/fifth-week-26/
LOCATION:CA
END:VEVENT
BEGIN:VEVENT
DTSTART;VALUE=DATE:20220429
DTEND;VALUE=DATE:20220430
DTSTAMP:20260425T211357
CREATED:20220407T011629Z
LAST-MODIFIED:20220407T011629Z
UID:13398-1651190400-1651276799@vcaahi.org
SUMMARY:FIFTH WEEK
DESCRIPTION:
URL:https://vcaahi.org/event/fifth-week-25/
LOCATION:CA
END:VEVENT
BEGIN:VEVENT
DTSTART;TZID=UTC:20220424T110000
DTEND;TZID=UTC:20220424T130000
DTSTAMP:20260425T211357
CREATED:20220407T004803Z
LAST-MODIFIED:20220407T010817Z
UID:13377-1650798000-1650805200@vcaahi.org
SUMMARY:Southern California H&I Intergroup (click for info)
DESCRIPTION:
URL:https://vcaahi.org/event/district-24-15/
LOCATION:id: 290 755 6393 pw: 2091
END:VEVENT
BEGIN:VEVENT
DTSTART;VALUE=DATE:20220422
DTEND;VALUE=DATE:20220425
DTSTAMP:20260425T211357
CREATED:20220407T012548Z
LAST-MODIFIED:20220407T013038Z
UID:13402-1650585600-1650844799@vcaahi.org
SUMMARY:Serenity by the Sea - VC Roundup  (click for info)
DESCRIPTION:
URL:https://vcaahi.org/event/serenity-by-the-sea-click-for-info/
LOCATION:Ventura County Fairgrounds – 10 West Harbor Blvd. Ventura\, CA 93001
END:VEVENT
BEGIN:VEVENT
DTSTART;TZID=UTC:20220421T190000
DTEND;TZID=UTC:20220421T200000
DTSTAMP:20260425T211357
CREATED:20220407T005341Z
LAST-MODIFIED:20220407T010956Z
UID:13380-1650567600-1650571200@vcaahi.org
SUMMARY:District 24 (click for info)
DESCRIPTION:
URL:https://vcaahi.org/event/district-24-16/
LOCATION:United Methodist Church Room 10 2394 Erringer Rd Simi Valley\, CA 93065\, 2394 Erringer Rd\, Simi Valley\, CA\, 93065
END:VEVENT
BEGIN:VEVENT
DTSTART;TZID=UTC:20220420T190000
DTEND;TZID=UTC:20220420T200000
DTSTAMP:20260425T211357
CREATED:20220407T004633Z
LAST-MODIFIED:20220407T011042Z
UID:13375-1650481200-1650484800@vcaahi.org
SUMMARY:Gold Coast (click for info)
DESCRIPTION:
URL:https://vcaahi.org/event/gold-coast-11/
LOCATION:The Buck\, 321 N. Aviador St. Suite 111  Camarillo\, CA 93010\, 321 N. Aviador St. Suite 111 \, Camarillo\, CA\, 93010
END:VEVENT
BEGIN:VEVENT
DTSTART;TZID=UTC:20220419T190000
DTEND;TZID=UTC:20220419T200000
DTSTAMP:20260425T211357
CREATED:20220407T004518Z
LAST-MODIFIED:20220407T011122Z
UID:13373-1650394800-1650398400@vcaahi.org
SUMMARY:District 28 (click for info)
DESCRIPTION:
URL:https://vcaahi.org/event/district-28-9/
LOCATION:King of Glory Church 2500 Borchard Rd Newbury Park\, CA
END:VEVENT
BEGIN:VEVENT
DTSTART;TZID=UTC:20220410T184000
DTEND;TZID=UTC:20220410T185000
DTSTAMP:20260425T211357
CREATED:20220407T010313Z
LAST-MODIFIED:20220407T011150Z
UID:13387-1649616000-1649616600@vcaahi.org
SUMMARY:VCAAHI New Member Orientation (click for info)
DESCRIPTION:
URL:https://vcaahi.org/event/vcaahi-new-member-orientation/
LOCATION:id 894 2953 3154 pw 448771
END:VEVENT
BEGIN:VEVENT
DTSTART;TZID=UTC:20220410T173000
DTEND;TZID=UTC:20220410T183000
DTSTAMP:20260425T211357
CREATED:20220407T005910Z
LAST-MODIFIED:20220407T011225Z
UID:13384-1649611800-1649615400@vcaahi.org
SUMMARY:VCAAHI Committee Meeting (click for info)
DESCRIPTION:
URL:https://vcaahi.org/event/vcaahi-committee-meeting-6/
LOCATION:id 894 2953 3154 pw 448771
END:VEVENT
BEGIN:VEVENT
DTSTART;TZID=UTC:20220410T163000
DTEND;TZID=UTC:20220410T173000
DTSTAMP:20260425T211357
CREATED:20220407T005712Z
LAST-MODIFIED:20220407T011301Z
UID:13382-1649608200-1649611800@vcaahi.org
SUMMARY:VCAAHI Board Meeting (click for info)
DESCRIPTION:
URL:https://vcaahi.org/event/board-meeting-3/
LOCATION:id 894 2953 3154 pw 448771
END:VEVENT
BEGIN:VEVENT
DTSTART;TZID=UTC:20220406T180000
DTEND;TZID=UTC:20220406T190000
DTSTAMP:20260425T211357
CREATED:20220407T050602Z
LAST-MODIFIED:20220407T051751Z
UID:13411-1649268000-1649271600@vcaahi.org
SUMMARY:District 13 (click for info)
DESCRIPTION:
URL:https://vcaahi.org/event/district-13-click-for-info-4/
LOCATION:Ventura Center for Spiritual Living 101 S. Laurel\, Ventura\, CA 93001
END:VEVENT
BEGIN:VEVENT
DTSTART;VALUE=DATE:20220331
DTEND;VALUE=DATE:20220401
DTSTAMP:20260425T211357
CREATED:20220105T070737Z
LAST-MODIFIED:20220105T070737Z
UID:13352-1648684800-1648771199@vcaahi.org
SUMMARY:FIFTH WEEK
DESCRIPTION:
URL:https://vcaahi.org/event/fifth-week-24/
LOCATION:CA
END:VEVENT
END:VCALENDAR