BEGIN:VCALENDAR
VERSION:2.0
PRODID:-//Ventura County H&amp;I - ECPv6.15.20//NONSGML v1.0//EN
CALSCALE:GREGORIAN
METHOD:PUBLISH
X-WR-CALNAME:Ventura County H&amp;I
X-ORIGINAL-URL:https://vcaahi.org
X-WR-CALDESC:Events for Ventura County H&amp;I
REFRESH-INTERVAL;VALUE=DURATION:PT1H
X-Robots-Tag:noindex
X-PUBLISHED-TTL:PT1H
BEGIN:VTIMEZONE
TZID:America/Los_Angeles
BEGIN:DAYLIGHT
TZOFFSETFROM:-0800
TZOFFSETTO:-0700
TZNAME:PDT
DTSTART:20230312T100000
END:DAYLIGHT
BEGIN:STANDARD
TZOFFSETFROM:-0700
TZOFFSETTO:-0800
TZNAME:PST
DTSTART:20231105T090000
END:STANDARD
BEGIN:DAYLIGHT
TZOFFSETFROM:-0800
TZOFFSETTO:-0700
TZNAME:PDT
DTSTART:20240310T100000
END:DAYLIGHT
BEGIN:STANDARD
TZOFFSETFROM:-0700
TZOFFSETTO:-0800
TZNAME:PST
DTSTART:20241103T090000
END:STANDARD
BEGIN:DAYLIGHT
TZOFFSETFROM:-0800
TZOFFSETTO:-0700
TZNAME:PDT
DTSTART:20250309T100000
END:DAYLIGHT
BEGIN:STANDARD
TZOFFSETFROM:-0700
TZOFFSETTO:-0800
TZNAME:PST
DTSTART:20251102T090000
END:STANDARD
END:VTIMEZONE
BEGIN:VTIMEZONE
TZID:UTC
BEGIN:STANDARD
TZOFFSETFROM:+0000
TZOFFSETTO:+0000
TZNAME:UTC
DTSTART:20220101T000000
END:STANDARD
END:VTIMEZONE
BEGIN:VEVENT
DTSTART;TZID=America/Los_Angeles:20241006T180000
DTEND;TZID=America/Los_Angeles:20241006T193000
DTSTAMP:20260425T073814
CREATED:20240610T182354Z
LAST-MODIFIED:20241008T013053Z
UID:14148-1728237600-1728243000@vcaahi.org
SUMMARY:Sunday Correctional Facilities H&I Panels
DESCRIPTION:Correctional Facilities Panels – October 2024\nMen and Women (separate meetings\, both at same location)\n\nOctober 6th\nOctober 13th\nOctober 20th\nOctober 27th\nNo week 5
URL:https://vcaahi.org/event/sunday-panels/
LOCATION:Todd Road Jail\, 600 Todd Rd\, Santa Paula\, CA\, 93060\, United States
END:VEVENT
BEGIN:VEVENT
DTSTART;TZID=America/Los_Angeles:20241005T180000
DTEND;TZID=America/Los_Angeles:20241005T190000
DTSTAMP:20260425T073814
CREATED:20240610T191055Z
LAST-MODIFIED:20241008T015355Z
UID:14179-1728151200-1728154800@vcaahi.org
SUMMARY:Saturday Crisis Residential Treatment (CRT) Panels
DESCRIPTION:Saturday Crisis Residential Treatment (CRT) Panels – October 2024\nCo-ed\n\nOctober 5th\nOctober 12th\nOctober 19th\nOctober 26th
URL:https://vcaahi.org/event/saturday-crisis-residential-treatment-panels/
LOCATION:Crisis Residential Treament (CRT)\, 350 Hillmont Ave.\, Ventura\, CA\, 93003\, United States
END:VEVENT
BEGIN:VEVENT
DTSTART;TZID=America/Los_Angeles:20241003T180000
DTEND;TZID=America/Los_Angeles:20241003T190000
DTSTAMP:20260425T073814
CREATED:20240610T185407Z
LAST-MODIFIED:20241008T015145Z
UID:14167-1727978400-1727982000@vcaahi.org
SUMMARY:Thursday Hillmont Psychiatric Panels
DESCRIPTION:Hillmont Psychiatric Unit Panels – October 2024\nCo-ed\n\nOctober 3rd\nOctober 17th
URL:https://vcaahi.org/event/thursday-hillmont-psychiatric-panels/
LOCATION:Hillmont Psychiatric\, 200 Hillmont Ave.\, Ventura\, CA\, 93003\, United States
END:VEVENT
BEGIN:VEVENT
DTSTART;TZID=America/Los_Angeles:20241002T183000
DTEND;TZID=America/Los_Angeles:20241002T193000
DTSTAMP:20260425T073814
CREATED:20240610T190105Z
LAST-MODIFIED:20241008T015011Z
UID:14173-1727893800-1727897400@vcaahi.org
SUMMARY:Wednesday Thompson Place Panels
DESCRIPTION:Thompson Place Panels – October 2024\nCo-ed\n\nOctober 2nd\nOctober 16th
URL:https://vcaahi.org/event/wednesday-thompson-place-panels/
LOCATION:Thompson Place\, 1681 E. Thompson Blvd.\, Ventura\, CA\, 93001\, United States
END:VEVENT
BEGIN:VEVENT
DTSTART;TZID=America/Los_Angeles:20240928T090000
DTEND;TZID=America/Los_Angeles:20240928T160000
DTSTAMP:20260425T073814
CREATED:20240826T010631Z
LAST-MODIFIED:20240826T010631Z
UID:14208-1727514000-1727539200@vcaahi.org
SUMMARY:Legacies of Unity and Service 2024
DESCRIPTION:Legacies of Unity and Service:\nTwelve Traditions\, Twelve Concepts\nThis workshop promises an engaging exploration of A.A.’s Twelve Traditions of Unity\, focusing on their application at both the group level and outside the Fellowship. Additionally\, you’ll get a brief introduction to A.A.’s Twelve Concepts for World Service. Register here for in-person attendance (with a lunch option)\, or ZOOM. After registering\, you’ll receive the presentation file for downloading and printing. Don’t miss out on this fun and informative opportunity! \nReserve your spot today for only $10; register on the EventBrite page!
URL:https://vcaahi.org/event/legacies-of-unity-and-service-2024/
LOCATION:St. Patrick’s Episcopal Church\, 1 Church Rd\, Thousand Oaks\, CA\, 91362\, United States
END:VEVENT
BEGIN:VEVENT
DTSTART;VALUE=DATE:20240906
DTEND;VALUE=DATE:20240909
DTSTAMP:20260425T073814
CREATED:20240201T021304Z
LAST-MODIFIED:20240201T021304Z
UID:14103-1725580800-1725839999@vcaahi.org
SUMMARY:44th Annual Ventura County A.A. Convention
DESCRIPTION:A Common Solution\n“The tremendous fact for every one of us is that we have discovered a common solution.\nWe have a way out on which we can absolutely agree\, and upon which we can join in brotherly and harmonious action. This is the great news this book carries to those who suffer from alcoholism.”\n \nPage 17 – Big Book of Alcoholics Anonymous \nSee event website for more information
URL:https://vcaahi.org/event/44th-ventura-county-aa-convention/
LOCATION:Hyatt Regency Westlake\, 880 S Westlake Blvd\, Westlake Village\, 91306\, United States
END:VEVENT
BEGIN:VEVENT
DTSTART;VALUE=DATE:20240830
DTEND;VALUE=DATE:20240903
DTSTAMP:20260425T073814
CREATED:20240201T020438Z
LAST-MODIFIED:20240201T020438Z
UID:14097-1724976000-1725321599@vcaahi.org
SUMMARY:South Bay Roundup Convention 2024
DESCRIPTION:The 2024 40th South Bay Roundup planning has begun. This section identifies important facts about this years roundup \n\nThe Roundup is Labor Day Weekend\, August 30 – September 2\, 2024.\nThis years Roundup will be in-person at the Sonesta Hotel in the Redondo Beach Marina.\nMerchandise will be available for pickup on-site\, beginning August 30th.\nIf you have any questions you can submit an inquiry online by clicking the “Contact SBRU” option from the menu\, or call the Hotline: 310-354-7660\n\nPlease check out this website for further updates. We will keep you informed. \nMay God bless you and keep you safe! \nYour South Bay Roundup Committee
URL:https://vcaahi.org/event/south-bay-roundup-convention-2024/
END:VEVENT
BEGIN:VEVENT
DTSTART;TZID=America/Los_Angeles:20240805T193000
DTEND;TZID=America/Los_Angeles:20240805T203000
DTSTAMP:20260425T073814
CREATED:20240610T183310Z
LAST-MODIFIED:20241008T013634Z
UID:14153-1722886200-1722889800@vcaahi.org
SUMMARY:Monday Vista del Mar Panels
DESCRIPTION:Vista del Mar Panels – October 2024\nCo-ed (Online; contact coordinator for Zoom info)\n\nNOT MEETING THIS MONTH
URL:https://vcaahi.org/event/monday-vista-del-mar-panels/
END:VEVENT
BEGIN:VEVENT
DTSTART;TZID=America/Los_Angeles:20240804T180000
DTEND;TZID=America/Los_Angeles:20240804T193000
DTSTAMP:20260425T073814
CREATED:20240803T210413Z
LAST-MODIFIED:20241008T013256Z
UID:14189-1722794400-1722799800@vcaahi.org
SUMMARY:Friday Men's Spanish Todd Road H&I Panels
DESCRIPTION:Friday Spanish Todd Road Panels – October 2024\nMen Only\n\nOctober 4th\nOctober 11th\nOctober 18th\nOctober 25th
URL:https://vcaahi.org/event/friday-spanish-panels-todd-rd/
LOCATION:Todd Road Jail\, 600 Todd Rd\, Santa Paula\, CA\, 93060\, United States
END:VEVENT
BEGIN:VEVENT
DTSTART;TZID=America/Los_Angeles:20240804T180000
DTEND;TZID=America/Los_Angeles:20240804T193000
DTSTAMP:20260425T073814
CREATED:20240803T205940Z
LAST-MODIFIED:20240803T205940Z
UID:14187-1722794400-1722799800@vcaahi.org
SUMMARY:Sunday Correctional Facilities H&I Panels
DESCRIPTION:Correctional Facilities Panels – August 2024\nMen and Women (separate meetings\, both at same location)\n\nAugust 4th\nAugust 11th\nAugust 18th\nAugust 25th
URL:https://vcaahi.org/event/sunday-panels-august-2024/
LOCATION:Todd Road Jail\, 600 Todd Rd\, Santa Paula\, CA\, 93060\, United States
END:VEVENT
BEGIN:VEVENT
DTSTART;TZID=America/Los_Angeles:20240804T153000
DTEND;TZID=America/Los_Angeles:20240804T163000
DTSTAMP:20260425T073814
CREATED:20240710T035323Z
LAST-MODIFIED:20240710T035441Z
UID:14184-1722785400-1722789000@vcaahi.org
SUMMARY:Committee Meeting Dates
DESCRIPTION:Upcoming meeting dates for the Ventura County H&I (all dates 2024): \nJuly 7th \nAugust 4th \nSeptember 1st \nOctober 6th \nNovember 3rd \nDecember 1st \n  \nAll meetings take place at The Buck. \nThe schedule is: \n2:30 pm: Board Meeting \n3:30 pm: Committee Meeting
URL:https://vcaahi.org/event/committee-meeting-dates/
END:VEVENT
BEGIN:VEVENT
DTSTART;VALUE=DATE:20240719
DTEND;VALUE=DATE:20240722
DTSTAMP:20260425T073814
CREATED:20240201T015210Z
LAST-MODIFIED:20240201T015210Z
UID:14084-1721347200-1721606399@vcaahi.org
SUMMARY:Santa Paul Pig Roast - SAVE THE DATE
DESCRIPTION:More information coming soon!
URL:https://vcaahi.org/event/santa-paul-pig-roast-save-the-date/
LOCATION:Lake Casitas  11311 Santa Ana Rd  Ventura 93001
END:VEVENT
BEGIN:VEVENT
DTSTART;TZID=America/Los_Angeles:20240616T183000
DTEND;TZID=America/Los_Angeles:20240616T193000
DTSTAMP:20260425T073814
CREATED:20240610T182957Z
LAST-MODIFIED:20240610T182957Z
UID:14150-1718562600-1718566200@vcaahi.org
SUMMARY:Sunday Prototypes H&I Panels
DESCRIPTION:Prototypes Panels – June 2024\nWomen\n\nJune 2nd\nJune 9th\nJune 16th\nJune 23rd\nJune 30th
URL:https://vcaahi.org/event/sunday-prototypes-panels-june-2024/
LOCATION:Prototypes\, 2150 N Victoria Ave\, Oxnard\, CA\, 93036\, United States
END:VEVENT
BEGIN:VEVENT
DTSTART;VALUE=DATE:20240503
DTEND;VALUE=DATE:20240506
DTSTAMP:20260425T073814
CREATED:20240313T224553Z
LAST-MODIFIED:20240313T224553Z
UID:14121-1714694400-1714953599@vcaahi.org
SUMMARY:2024 H&I Conference: A State of Love and Service
DESCRIPTION:
URL:https://vcaahi.org/event/2024-hi-conference-a-state-of-love-and-service/
LOCATION:Double Tree by Hilton Bakersfield\, 3100 Camino del Rio Ct\, Bakersfield\, CA\, 93308\, United States
END:VEVENT
BEGIN:VEVENT
DTSTART;VALUE=DATE:20240426
DTEND;VALUE=DATE:20240429
DTSTAMP:20260425T073814
CREATED:20240201T020952Z
LAST-MODIFIED:20240201T020952Z
UID:14100-1714089600-1714348799@vcaahi.org
SUMMARY:SBTS Ventura County AA Roundup 2024
DESCRIPTION:April 26 – 28 \nVentura County Fairgrounds \nSee event website for more details
URL:https://vcaahi.org/event/sbts-ventura-county-aa-roundup-2024/
LOCATION:Ventura County Fairgrounds – 10 West Harbor Blvd. Ventura\, CA 93001
END:VEVENT
BEGIN:VEVENT
DTSTART;VALUE=DATE:20240328
DTEND;VALUE=DATE:20240401
DTSTAMP:20260425T073814
CREATED:20240201T020245Z
LAST-MODIFIED:20240201T020245Z
UID:14094-1711584000-1711929599@vcaahi.org
SUMMARY:San Diego Spring Round Up
DESCRIPTION:Theme: Attitude of Gratitude \nThe 2024 San Diego Spring Round Up is going to be AMAZING! \n\nThe Roundup is Easter Weekend\, March 28 – 31\, 2024.\n\nPlease check out this website for further updates. We will keep you informed. \nMay God bless you and keep you safe! \nYour San Diego Spring Round Up Committee (see event link for more info)
URL:https://vcaahi.org/event/san-diego-spring-round-up/
END:VEVENT
BEGIN:VEVENT
DTSTART;TZID=America/Los_Angeles:20240326T180000
DTEND;TZID=America/Los_Angeles:20240326T193000
DTSTAMP:20260425T073814
CREATED:20240326T204123Z
LAST-MODIFIED:20240326T204550Z
UID:14127-1711476000-1711481400@vcaahi.org
SUMMARY:Sunday Correctional Facilities H&I Panels
DESCRIPTION:Correctional Facilities Panels – March 2024\nMen and Women (separate meetings\, both at same location)\n\nMarch 3rd\nMarch 10th\nMarch 17th\nMarch 24th\nMarch 31st
URL:https://vcaahi.org/event/sunday-panels-march-2024/
LOCATION:Todd Road Jail\, 600 Todd Rd\, Santa Paula\, CA\, 93060\, United States
END:VEVENT
BEGIN:VEVENT
DTSTART;TZID=America/Los_Angeles:20240326T080000
DTEND;TZID=America/Los_Angeles:20240326T170000
DTSTAMP:20260425T073814
CREATED:20240326T213856Z
LAST-MODIFIED:20240326T213856Z
UID:14133-1711440000-1711472400@vcaahi.org
SUMMARY:March 2024 H&I Panels
DESCRIPTION:Correctional Facilities\nSunday\nMarch 3rd\, 10th\, 17th\, 24th and 31st \nWomen Only panel: 6:00 pm – 7:30 pm\, Todd Road Jail\, 600 S. Todd Rd.\, Santa Paula\, CA\, 93060 \nMen Only panel: 6:00 pm – 7:30 pm\, Todd Road Jail\, 600 S. Todd Rd.\, Santa Paula\, CA\, 93060 \nHospital & Treatment Facilities\nSunday\nMarch 3rd\, 10th\, 17th\, 24th and 31st \nWomen Only panel: 6:30 pm – 7:30 pm\, Prototypes\, 2150 N. Victoria Ave.\, Oxnard\, CA \nMonday\nMarch 4th\, 11th\, 18th\, 25th\, April 29th \nCo-Ed panel: 7:30 pm – 8:30 pm\, Vista Del Mar. Online: contact panel coordinator for information. \nCo-Ed panel: 7:00 pm – 8:00 pm\, Casa de Esperanza\, 1750 S. Lewis Rd.\, Camarillo \nWednesday\nMarch 20th \nCo-Ed panel: 11:30 am – 12:30 pm\, Wildwood Recovery IOP\, 166 N. Moorpark Rd. Suite 304\, Thousand Oaks \nMarch 6th\, 20th \nCo-Ed panel: 6:00 pm – 7:00 pm\, Hillmont Psychiatric Unit\, 200 Hillmont Ave.\, Ventura \nCo-Ed panel: 6:30 pm – 7:30 pm\, Thompson Place\, 1681 E. Thompson Blvd.\, Ventura \nFriday\nMarch 22nd \nCo-Ed panel: 10:00 am – 11:15 am\, Ventura Recovery Center\, 2985 E. Hillcrest Dr.\, Suite 106\, Westlake Village \nSaturday\nMarch 2nd\, 9th\, 16th\, 23rd\, 30th \nCo-Ed panel: 6:00 pm – 7:00 pm\, Crisis Residential Treatment (CRT)\, 350 Hillmont Ave.\, Ventura
URL:https://vcaahi.org/event/march-2024-hi-panels/
END:VEVENT
BEGIN:VEVENT
DTSTART;TZID=America/Los_Angeles:20240302T180000
DTEND;TZID=America/Los_Angeles:20240302T210000
DTSTAMP:20260425T073814
CREATED:20240201T015019Z
LAST-MODIFIED:20240201T015019Z
UID:14080-1709402400-1709413200@vcaahi.org
SUMMARY:Serenity by the Sea Bingo
DESCRIPTION:Bingo Night! \nwith AlAnon Participation \n$20.00 Adults \nKids entry is free \nFree coffee\, 50/50 Opportunity \nSee flyer for more info
URL:https://vcaahi.org/event/serenity-by-the-sea-bingo/
LOCATION:Balboa Middle School\, 247 S. Hill Rd.\, Ventura\, CA\, 93003\, United States
END:VEVENT
BEGIN:VEVENT
DTSTART;VALUE=DATE:20240301
DTEND;VALUE=DATE:20240304
DTSTAMP:20260425T073814
CREATED:20240201T015756Z
LAST-MODIFIED:20240201T015756Z
UID:14091-1709251200-1709510399@vcaahi.org
SUMMARY:PRAASA 2024
DESCRIPTION:Save the Date! \nHosted by California Northern Coastal Area 06 \nPacific Region A.A. Service Assembly \nSan Francisco\, CA \nAll AA’s Welcome; Al-Anon Participants as well \nSpanish & ASL Interpretation Available \nVisit the PRAASA website for more details! \n 
URL:https://vcaahi.org/event/praasa-2024/
END:VEVENT
BEGIN:VEVENT
DTSTART;TZID=America/Los_Angeles:20240224T093000
DTEND;TZID=America/Los_Angeles:20240224T160000
DTSTAMP:20260425T073814
CREATED:20240201T014559Z
LAST-MODIFIED:20240201T014559Z
UID:14076-1708767000-1708790400@vcaahi.org
SUMMARY:Gold Coast District Traditions Workshop
DESCRIPTION:How best to apply AA’s 12 Traditions! \n4 experienced speakers \nQ&A Session and discussion \nFree lunch provided! \nHosted by the Gold Coast Combined District. \nRoger Jones Community Center \n2864 Jourdan Street\, Oxnard
URL:https://vcaahi.org/event/gold-coast-district-traditions-workshop/
LOCATION:Roger Jones Community Center\, 2864 Jourdan Street\, Oxnard\, CA\, 93036\, United States
END:VEVENT
BEGIN:VEVENT
DTSTART;TZID=America/Los_Angeles:20240218T080000
DTEND;TZID=America/Los_Angeles:20240218T170000
DTSTAMP:20260425T073814
CREATED:20240201T015441Z
LAST-MODIFIED:20240201T015441Z
UID:14087-1708243200-1708275600@vcaahi.org
SUMMARY:Area 93 Assembly - February 2024
DESCRIPTION:Agenda is pending; see event site for details.
URL:https://vcaahi.org/event/area-93-assembly-february-2024/
LOCATION:Solvang Veterans Memorial Hall\, 1745 Mission Dr.\, Solvang\, CA\, 93463\, United States
END:VEVENT
BEGIN:VEVENT
DTSTART;TZID=America/Los_Angeles:20240204T151500
DTEND;TZID=America/Los_Angeles:20240204T163000
DTSTAMP:20260425T073814
CREATED:20240201T022547Z
LAST-MODIFIED:20240201T022807Z
UID:14114-1707059700-1707064200@vcaahi.org
SUMMARY:February 2024 VCAAHI Committee Meeting + Orientation
DESCRIPTION:WHEN\nSunday\, December 3\, 2023\n3:15 pm Committee Meeting\n4:15 pm Orientation for new members
URL:https://vcaahi.org/event/feb-2024-vcaahi-meeting/
LOCATION:The Buck\, 321 N. Aviador St. Suite 111  Camarillo\, CA 93010\, 321 N. Aviador St. Suite 111 \, Camarillo\, CA\, 93010
END:VEVENT
BEGIN:VEVENT
DTSTART;TZID=America/Los_Angeles:20240203T180000
DTEND;TZID=America/Los_Angeles:20240203T213000
DTSTAMP:20260425T073814
CREATED:20240201T014034Z
LAST-MODIFIED:20240201T022140Z
UID:14073-1706983200-1706995800@vcaahi.org
SUMMARY:Pig Roast Super Bowl Bingo and BBQ
DESCRIPTION:Superbowl Bingo & BBQ Fundraise: Santa Paula Pig Roast\n$25 per person \n$10 kids (13-28) \nFor more details\, see the flyer at the link under “Details” in the right-hand column. \nContact: bbq@santapaulapigroast.com \nMission Church\n5353 Walker St. \nVentura\, CA 93003
URL:https://vcaahi.org/event/pig-roast-super-bowl-bingo-and-bbq/
END:VEVENT
BEGIN:VEVENT
DTSTART;VALUE=DATE:20231215
DTEND;VALUE=DATE:20231218
DTSTAMP:20260425T073814
CREATED:20231126T071310Z
LAST-MODIFIED:20231126T071310Z
UID:14059-1702598400-1702857599@vcaahi.org
SUMMARY:HBMS Retreat
DESCRIPTION:Overview\n\n\nHermosa Beach Men’s Stag (HBMS) group of men practicing the twelve steps of Alcoholics Anonymous. HBMS has a weekly meeting at the Hermosa Beach Alano Club from 8:30 PM – 10:00 PM. The primary focus of the HBMS group is working with another Alcoholic. HBMS has a yearly retreat at the Serra Retreat Center in Malibu. This year the retreat is Dec 15 – Dec 17\, 2023. Hope to see you there. \nClick Here for more info.
URL:https://vcaahi.org/event/hbms-retreat/
END:VEVENT
BEGIN:VEVENT
DTSTART;TZID=UTC:20231209T100000
DTEND;TZID=UTC:20231209T110000
DTSTAMP:20260425T073814
CREATED:20231203T041006Z
LAST-MODIFIED:20231203T041006Z
UID:14069-1702116000-1702119600@vcaahi.org
SUMMARY:District 28’s 11th Step Winter Workshop
DESCRIPTION:Workshop Theme\, Step Eleven\n“Sought through prayer and meditation to improve our conscious contact with God as we understood Him\, praying only for knowledge of His will for us and the power to carry that out.” \nAgenda\nThe detailed agenda will include a “Key Note Speaker”\, Group Work with participants and Q&A with the organizers to learn how to practice this step in our daily lives. \nInformation\nPlease let us know if you plan on attending by sending a short note to Matthew R at mrsci68@gmail.com For more information or questions\, please call Christine C. (805)390-7244 or Matthew R. (805)405-5750 \nDOWNLOAD FLYER
URL:https://vcaahi.org/event/district-28s-11th-step-winter-workshop/
END:VEVENT
BEGIN:VEVENT
DTSTART;TZID=UTC:20231209T080000
DTEND;TZID=UTC:20231209T160000
DTSTAMP:20260425T073814
CREATED:20231126T062238Z
LAST-MODIFIED:20231126T062238Z
UID:14056-1702108800-1702137600@vcaahi.org
SUMMARY:8th Hispanic Women’s Workshop
DESCRIPTION:Hybrid Event\nAttend in person or on Zoom \nAddress: Westminister Presbyterian Church 1757 N. Lake Ave.\, Pasadena\, CA\, United States \nZoom ID: 891-3842-5577 \nPW: area05
URL:https://vcaahi.org/event/8th-hispanic-womens-workshop/
END:VEVENT
BEGIN:VEVENT
DTSTART;TZID=UTC:20231203T151500
DTEND;TZID=UTC:20231203T163000
DTSTAMP:20260425T073814
CREATED:20231126T071700Z
LAST-MODIFIED:20231126T071827Z
UID:14062-1701616500-1701621000@vcaahi.org
SUMMARY:VCAAHI Committee Meeting + Orientation
DESCRIPTION:WHEN\nSunday\, December 3\, 2023\n3:15 pm Committee Meeting\n4:15 pm Orientation for new members\n\n \nWHERE\nThe Buck\n321 N Aviador St\, Suite 115\nCamarillo CA 93010
URL:https://vcaahi.org/event/vcaahi-committee-meeting-orientation/
END:VEVENT
BEGIN:VEVENT
DTSTART;TZID=UTC:20231203T110000
DTEND;TZID=UTC:20231203T140000
DTSTAMP:20260425T073814
CREATED:20231126T060142Z
LAST-MODIFIED:20231126T061617Z
UID:14050-1701601200-1701612000@vcaahi.org
SUMMARY:Inter-Area Remote Communities Forum
DESCRIPTION:Zoom Event CA\, United States – Visit area93 for more info.
URL:https://vcaahi.org/event/inter-area-remote-communities-forum/
END:VEVENT
BEGIN:VEVENT
DTSTART;TZID=UTC:20230723T120000
DTEND;TZID=UTC:20230723T133000
DTSTAMP:20260425T073814
CREATED:20230703T035154Z
LAST-MODIFIED:20230703T035154Z
UID:14042-1690113600-1690119000@vcaahi.org
SUMMARY:SOUTHERN CALIFORNIA H&I INTERGROUP (click for info)
DESCRIPTION:
URL:https://vcaahi.org/event/southern-california-hi-intergroup-click-for-info-12/
LOCATION:id: 290 755 6393 pw: 2091
END:VEVENT
END:VCALENDAR