BEGIN:VCALENDAR
VERSION:2.0
PRODID:-//Ventura County H&amp;I - ECPv6.15.20//NONSGML v1.0//EN
CALSCALE:GREGORIAN
METHOD:PUBLISH
X-WR-CALNAME:Ventura County H&amp;I
X-ORIGINAL-URL:https://vcaahi.org
X-WR-CALDESC:Events for Ventura County H&amp;I
REFRESH-INTERVAL;VALUE=DURATION:PT1H
X-Robots-Tag:noindex
X-PUBLISHED-TTL:PT1H
BEGIN:VTIMEZONE
TZID:UTC
BEGIN:STANDARD
TZOFFSETFROM:+0000
TZOFFSETTO:+0000
TZNAME:UTC
DTSTART:20210101T000000
END:STANDARD
END:VTIMEZONE
BEGIN:VEVENT
DTSTART;VALUE=DATE:20220916
DTEND;VALUE=DATE:20220919
DTSTAMP:20260425T151734
CREATED:20220531T040934Z
LAST-MODIFIED:20220531T040934Z
UID:13499-1663286400-1663545599@vcaahi.org
SUMMARY:2022 Pacific Regional Forum (click for info)
DESCRIPTION:
URL:https://vcaahi.org/event/2022-pacific-regional-forum-click-for-info/
LOCATION:Marriot Downtown @ City Creek\, 75 W. Temple St\, Salt Lake City\, Utah
END:VEVENT
BEGIN:VEVENT
DTSTART;TZID=UTC:20220915T190000
DTEND;TZID=UTC:20220915T200000
DTSTAMP:20260425T151734
CREATED:20220812T071814Z
LAST-MODIFIED:20220812T072439Z
UID:13658-1663268400-1663272000@vcaahi.org
SUMMARY:District 24 (click for info)
DESCRIPTION:
URL:https://vcaahi.org/event/district-24-17/
LOCATION:United Methodist Church Room 10 2394 Erringer Rd Simi Valley\, CA 93065\, 2394 Erringer Rd\, Simi Valley\, CA\, 93065
END:VEVENT
BEGIN:VEVENT
DTSTART;VALUE=DATE:20220909
DTEND;VALUE=DATE:20220912
DTSTAMP:20260425T151734
CREATED:20220812T063823Z
LAST-MODIFIED:20220812T070340Z
UID:13635-1662681600-1662940799@vcaahi.org
SUMMARY:Ventura County AA Convention (click for info)
DESCRIPTION:
URL:https://vcaahi.org/event/ventura-county-aa-convention/
LOCATION:Hyatt Regency Westlake\, 880 S Westlake Blvd\, Westlake Village\, 91306\, United States
END:VEVENT
BEGIN:VEVENT
DTSTART;TZID=UTC:20220907T190000
DTEND;TZID=UTC:20220907T190000
DTSTAMP:20260425T151734
CREATED:20220812T071133Z
LAST-MODIFIED:20220812T071143Z
UID:13653-1662577200-1662577200@vcaahi.org
SUMMARY:District 13 (click for info)
DESCRIPTION:
URL:https://vcaahi.org/event/district-13-click-for-info-6/
LOCATION:Ventura Center for Spiritual Living 101 S. Laurel\, Ventura\, CA 93001
END:VEVENT
BEGIN:VEVENT
DTSTART;TZID=UTC:20220904T153000
DTEND;TZID=UTC:20220904T163000
DTSTAMP:20260425T151734
CREATED:20220812T065133Z
LAST-MODIFIED:20220812T070239Z
UID:13643-1662305400-1662309000@vcaahi.org
SUMMARY:VCAAHI COMMITTEE MEETING (click for info)
DESCRIPTION:
URL:https://vcaahi.org/event/vcaahi-committee-meeting-7/
LOCATION:The Buck\, 321 N. Aviador St. Suite 111  Camarillo\, CA 93010\, 321 N. Aviador St. Suite 111 \, Camarillo\, CA\, 93010
END:VEVENT
BEGIN:VEVENT
DTSTART;TZID=UTC:20220904T150000
DTEND;TZID=UTC:20220904T152000
DTSTAMP:20260425T151734
CREATED:20220812T064851Z
LAST-MODIFIED:20220812T070130Z
UID:13641-1662303600-1662304800@vcaahi.org
SUMMARY:VCAAHI ORIENTATION WORKSHOP (click for info)
DESCRIPTION:
URL:https://vcaahi.org/event/vcaahi-orientation-workshop/
LOCATION:The Buck\, 321 N. Aviador St. Suite 111  Camarillo\, CA 93010\, 321 N. Aviador St. Suite 111 \, Camarillo\, CA\, 93010
END:VEVENT
BEGIN:VEVENT
DTSTART;VALUE=DATE:20220831
DTEND;VALUE=DATE:20220901
DTSTAMP:20260425T151734
CREATED:20220531T041545Z
LAST-MODIFIED:20220531T041559Z
UID:13508-1661904000-1661990399@vcaahi.org
SUMMARY:FIFTH WEEK
DESCRIPTION:
URL:https://vcaahi.org/event/fifth-week-37/
END:VEVENT
BEGIN:VEVENT
DTSTART;VALUE=DATE:20220830
DTEND;VALUE=DATE:20220831
DTSTAMP:20260425T151734
CREATED:20220531T041508Z
LAST-MODIFIED:20220531T041508Z
UID:13506-1661817600-1661903999@vcaahi.org
SUMMARY:FIFTH WEEK
DESCRIPTION:
URL:https://vcaahi.org/event/fifth-week-36/
END:VEVENT
BEGIN:VEVENT
DTSTART;VALUE=DATE:20220829
DTEND;VALUE=DATE:20220830
DTSTAMP:20260425T151734
CREATED:20220531T041423Z
LAST-MODIFIED:20220531T041423Z
UID:13504-1661731200-1661817599@vcaahi.org
SUMMARY:FIFTH WEEK
DESCRIPTION:
URL:https://vcaahi.org/event/fifth-week-35/
END:VEVENT
BEGIN:VEVENT
DTSTART;TZID=UTC:20220828T163000
DTEND;TZID=UTC:20220828T170000
DTSTAMP:20260425T151734
CREATED:20220711T034049Z
LAST-MODIFIED:20220812T065237Z
UID:13540-1661704200-1661706000@vcaahi.org
SUMMARY:VCAAHI Board Meeting (click for info)
DESCRIPTION:
URL:https://vcaahi.org/event/vcaahi-board-meeting-click-for-info-9/
LOCATION:id 894 2953 3154 pw 448771
END:VEVENT
BEGIN:VEVENT
DTSTART;TZID=UTC:20220828T110000
DTEND;TZID=UTC:20220828T130000
DTSTAMP:20260425T151734
CREATED:20220711T041557Z
LAST-MODIFIED:20220711T041557Z
UID:13565-1661684400-1661691600@vcaahi.org
SUMMARY:Southern California H&I Intergroup (click for info)
DESCRIPTION:
URL:https://vcaahi.org/event/southern-california-hi-intergroup-click-for-info-3/
LOCATION:id: 290 755 6393 pw: 2091
END:VEVENT
BEGIN:VEVENT
DTSTART;TZID=UTC:20220821T080000
DTEND;TZID=UTC:20220821T130000
DTSTAMP:20260425T151734
CREATED:20220531T040443Z
LAST-MODIFIED:20220531T040443Z
UID:13497-1661068800-1661086800@vcaahi.org
SUMMARY:Area 93: Area Committee Assembly (click for info)
DESCRIPTION:
URL:https://vcaahi.org/event/area-93-area-committee-assembly-click-for-info/
LOCATION:Location to be determined
END:VEVENT
BEGIN:VEVENT
DTSTART;TZID=UTC:20220818T190000
DTEND;TZID=UTC:20220818T200000
DTSTAMP:20260425T151734
CREATED:20220711T035059Z
LAST-MODIFIED:20220711T035059Z
UID:13550-1660849200-1660852800@vcaahi.org
SUMMARY:District 24 (click for info)
DESCRIPTION:
URL:https://vcaahi.org/event/district-24-click-for-info-6/
LOCATION:United Methodist Church Room 10 2394 Erringer Rd Simi Valley\, CA 93065\, 2394 Erringer Rd\, Simi Valley\, CA\, 93065
END:VEVENT
BEGIN:VEVENT
DTSTART;TZID=UTC:20220817T080000
DTEND;TZID=UTC:20220817T170000
DTSTAMP:20260425T151734
CREATED:20220711T034932Z
LAST-MODIFIED:20220711T034932Z
UID:13548-1660723200-1660755600@vcaahi.org
SUMMARY:Gold Coast (click for info)
DESCRIPTION:
URL:https://vcaahi.org/event/gold-coast-click-for-info-3/
LOCATION:The Buck\, 321 N. Aviador St. Suite 111  Camarillo\, CA 93010\, 321 N. Aviador St. Suite 111 \, Camarillo\, CA\, 93010
END:VEVENT
BEGIN:VEVENT
DTSTART;TZID=UTC:20220816T190000
DTEND;TZID=UTC:20220816T200000
DTSTAMP:20260425T151734
CREATED:20220711T034822Z
LAST-MODIFIED:20220711T034822Z
UID:13546-1660676400-1660680000@vcaahi.org
SUMMARY:District 28 (click for info)
DESCRIPTION:
URL:https://vcaahi.org/event/district-28-click-for-info-5/
LOCATION:King of Glory Church 2500 Borchard Rd Newbury Park\, CA
END:VEVENT
BEGIN:VEVENT
DTSTART;TZID=UTC:20220807T153000
DTEND;TZID=UTC:20220807T163000
DTSTAMP:20260425T151734
CREATED:20220711T032106Z
LAST-MODIFIED:20220711T033425Z
UID:13529-1659886200-1659889800@vcaahi.org
SUMMARY:VCAAHI Committee Meeting (click for info)
DESCRIPTION:
URL:https://vcaahi.org/event/vcaahi-committee-meeting-click-for-info-5/
LOCATION:The Buck\, 321 N. Aviador St. Suite 111  Camarillo\, CA 93010\, 321 N. Aviador St. Suite 111 \, Camarillo\, CA\, 93010
END:VEVENT
BEGIN:VEVENT
DTSTART;TZID=UTC:20220807T150000
DTEND;TZID=UTC:20220807T153000
DTSTAMP:20260425T151734
CREATED:20220711T034300Z
LAST-MODIFIED:20220722T075051Z
UID:13542-1659884400-1659886200@vcaahi.org
SUMMARY:VCAAHI Orientation Workshop
DESCRIPTION:
URL:https://vcaahi.org/event/vcaahi-new-member-orientation-2/
LOCATION:The Buck\, 321 N. Aviador St. Suite 111  Camarillo\, CA 93010\, 321 N. Aviador St. Suite 111 \, Camarillo\, CA\, 93010
END:VEVENT
BEGIN:VEVENT
DTSTART;TZID=UTC:20220803T180000
DTEND;TZID=UTC:20220803T190000
DTSTAMP:20260425T151734
CREATED:20220711T034612Z
LAST-MODIFIED:20220711T034612Z
UID:13544-1659549600-1659553200@vcaahi.org
SUMMARY:District 13 (click for info)
DESCRIPTION:
URL:https://vcaahi.org/event/district-13-click-for-info-5/
LOCATION:Ventura Center for Spiritual Living 101 S. Laurel\, Ventura\, CA 93001
END:VEVENT
BEGIN:VEVENT
DTSTART;VALUE=DATE:20220731
DTEND;VALUE=DATE:20220801
DTSTAMP:20260425T151734
CREATED:20220531T040117Z
LAST-MODIFIED:20220531T040117Z
UID:13495-1659225600-1659311999@vcaahi.org
SUMMARY:FIFTH WEEK
DESCRIPTION:
URL:https://vcaahi.org/event/fifth-week-34/
END:VEVENT
BEGIN:VEVENT
DTSTART;VALUE=DATE:20220730
DTEND;VALUE=DATE:20220731
DTSTAMP:20260425T151734
CREATED:20220531T040002Z
LAST-MODIFIED:20220531T040044Z
UID:13493-1659139200-1659225599@vcaahi.org
SUMMARY:FIFTH WEEK
DESCRIPTION:
URL:https://vcaahi.org/event/fifth-week-33/
END:VEVENT
BEGIN:VEVENT
DTSTART;VALUE=DATE:20220729
DTEND;VALUE=DATE:20220730
DTSTAMP:20260425T151734
CREATED:20220531T035930Z
LAST-MODIFIED:20220531T035930Z
UID:13491-1659052800-1659139199@vcaahi.org
SUMMARY:FIFTH WEEK
DESCRIPTION:
URL:https://vcaahi.org/event/fifth-week-32/
END:VEVENT
BEGIN:VEVENT
DTSTART;TZID=UTC:20220724T110000
DTEND;TZID=UTC:20220724T130000
DTSTAMP:20260425T151734
CREATED:20220711T041802Z
LAST-MODIFIED:20220711T041802Z
UID:13568-1658660400-1658667600@vcaahi.org
SUMMARY:Southern California H&I Intergroup (click for info)
DESCRIPTION:
URL:https://vcaahi.org/event/southern-california-hi-intergroup-click-for-info-4/
LOCATION:id: 290 755 6393 pw: 2091
END:VEVENT
BEGIN:VEVENT
DTSTART;TZID=UTC:20220724T110000
DTEND;TZID=UTC:20220724T130000
DTSTAMP:20260425T151734
CREATED:20220711T041402Z
LAST-MODIFIED:20220711T041402Z
UID:13563-1658660400-1658667600@vcaahi.org
SUMMARY:Southern California H&I Intergroup (click for info)
DESCRIPTION:
URL:https://vcaahi.org/event/southern-california-hi-intergroup-click-for-info-2/
LOCATION:id: 290 755 6393 pw: 2091
END:VEVENT
BEGIN:VEVENT
DTSTART;TZID=UTC:20220723T170000
DTEND;TZID=UTC:20220723T210000
DTSTAMP:20260425T151734
CREATED:20220531T024237Z
LAST-MODIFIED:20220531T024237Z
UID:13483-1658595600-1658610000@vcaahi.org
SUMMARY:VCAAC Bingo (click for info)
DESCRIPTION:
URL:https://vcaahi.org/event/vcaac-bingo-click-for-info/
LOCATION:Camarillo Community Center\, 1605 E. Burnley St.  Camarillo\, CA 93010
END:VEVENT
BEGIN:VEVENT
DTSTART;TZID=UTC:20220719T190000
DTEND;TZID=UTC:20220719T200000
DTSTAMP:20260425T151734
CREATED:20220711T042933Z
LAST-MODIFIED:20220711T042946Z
UID:13571-1658257200-1658260800@vcaahi.org
SUMMARY:District 28 (click for info)
DESCRIPTION:
URL:https://vcaahi.org/event/district-28-click-for-info-6/
LOCATION:King of Glory Church 2500 Borchard Rd Newbury Park\, CA
END:VEVENT
BEGIN:VEVENT
DTSTART;TZID=UTC:20220717T080000
DTEND;TZID=UTC:20220717T130000
DTSTAMP:20260425T151734
CREATED:20220531T035544Z
LAST-MODIFIED:20220531T035635Z
UID:13487-1658044800-1658062800@vcaahi.org
SUMMARY:Area 93: Area Committee Meeting (click for info)
DESCRIPTION:
URL:https://vcaahi.org/event/area-93-area-committee-meeting-click-for-info/
LOCATION:Location to be determined
END:VEVENT
BEGIN:VEVENT
DTSTART;VALUE=DATE:20220715
DTEND;VALUE=DATE:20220718
DTSTAMP:20260425T151734
CREATED:20220531T023836Z
LAST-MODIFIED:20220531T023836Z
UID:13480-1657843200-1658102399@vcaahi.org
SUMMARY:Santa Paula Pig Roast (click for info)
DESCRIPTION:
URL:https://vcaahi.org/event/santa-paula-pig-roast-click-for-info/
LOCATION:Lake Casitas  11311 Santa Ana Rd  Ventura 93001
END:VEVENT
BEGIN:VEVENT
DTSTART;TZID=UTC:20220710T173000
DTEND;TZID=UTC:20220710T183000
DTSTAMP:20260425T151734
CREATED:20220711T031119Z
LAST-MODIFIED:20220711T031119Z
UID:13520-1657474200-1657477800@vcaahi.org
SUMMARY:VCAAHI Committee Meeting (click for info)
DESCRIPTION:
URL:https://vcaahi.org/event/vcaahi-committee-meeting-click-for-info-4/
LOCATION:id 894 2953 3154 pw 448771
END:VEVENT
BEGIN:VEVENT
DTSTART;TZID=UTC:20220710T170000
DTEND;TZID=UTC:20220710T173000
DTSTAMP:20260425T151734
CREATED:20220711T032938Z
LAST-MODIFIED:20220711T032938Z
UID:13533-1657472400-1657474200@vcaahi.org
SUMMARY:VCAAHI Board Meeting (click for info)
DESCRIPTION:
URL:https://vcaahi.org/event/vcaahi-board-meeting-click-for-info-8/
LOCATION:id 894 2953 3154 pw 448771
END:VEVENT
BEGIN:VEVENT
DTSTART;TZID=UTC:20220710T170000
DTEND;TZID=UTC:20220710T173000
DTSTAMP:20260425T151734
CREATED:20220711T031658Z
LAST-MODIFIED:20220711T031658Z
UID:13527-1657472400-1657474200@vcaahi.org
SUMMARY:VCAAHI Board Meeting (click for info)
DESCRIPTION:
URL:https://vcaahi.org/event/vcaahi-board-meeting-click-for-info-7/
LOCATION:id 894 2953 3154 pw 448771
END:VEVENT
END:VCALENDAR