BEGIN:VCALENDAR
VERSION:2.0
PRODID:-//Ventura County H&amp;I - ECPv6.15.20//NONSGML v1.0//EN
CALSCALE:GREGORIAN
METHOD:PUBLISH
X-WR-CALNAME:Ventura County H&amp;I
X-ORIGINAL-URL:https://vcaahi.org
X-WR-CALDESC:Events for Ventura County H&amp;I
REFRESH-INTERVAL;VALUE=DURATION:PT1H
X-Robots-Tag:noindex
X-PUBLISHED-TTL:PT1H
BEGIN:VTIMEZONE
TZID:UTC
BEGIN:STANDARD
TZOFFSETFROM:+0000
TZOFFSETTO:+0000
TZNAME:UTC
DTSTART:20210101T000000
END:STANDARD
END:VTIMEZONE
BEGIN:VEVENT
DTSTART;VALUE=DATE:20221230
DTEND;VALUE=DATE:20221231
DTSTAMP:20260425T085312
CREATED:20221130T062739Z
LAST-MODIFIED:20221130T062739Z
UID:13791-1672358400-1672444799@vcaahi.org
SUMMARY:FIFTH WEEK
DESCRIPTION:
URL:https://vcaahi.org/event/fifth-week-46/
LOCATION:CA
END:VEVENT
BEGIN:VEVENT
DTSTART;VALUE=DATE:20221229
DTEND;VALUE=DATE:20221230
DTSTAMP:20260425T085312
CREATED:20221130T062704Z
LAST-MODIFIED:20221130T062704Z
UID:13789-1672272000-1672358399@vcaahi.org
SUMMARY:FIFTH WEEK
DESCRIPTION:
URL:https://vcaahi.org/event/fifth-week-45/
LOCATION:CA
END:VEVENT
BEGIN:VEVENT
DTSTART;VALUE=DATE:20221228
DTEND;VALUE=DATE:20221229
DTSTAMP:20260425T085312
CREATED:20221229T073909Z
LAST-MODIFIED:20221229T073909Z
UID:13846-1672185600-1672271999@vcaahi.org
SUMMARY:FIFTH WEEK
DESCRIPTION:
URL:https://vcaahi.org/event/fifth-week-48/
LOCATION:CA
END:VEVENT
BEGIN:VEVENT
DTSTART;TZID=UTC:20221224T180000
DTEND;TZID=UTC:20221225T220000
DTSTAMP:20260425T085312
CREATED:20221130T072323Z
LAST-MODIFIED:20221130T072457Z
UID:13806-1671904800-1672005600@vcaahi.org
SUMMARY:AA HOLIDAY MARATHON MEETINGS AT VISIONS (click for info)
DESCRIPTION:
URL:https://vcaahi.org/event/aa-holiday-marathon-meetings-at-visions/
LOCATION:Visions Meeting Hall 2667 North Moorepark Rd. #105 Thousand Oaks 91360\, 2667 North Moorepark Rd. #105\, Thousand Oaks\, CA\, 91360
END:VEVENT
BEGIN:VEVENT
DTSTART;TZID=UTC:20221220T190000
DTEND;TZID=UTC:20221220T200000
DTSTAMP:20260425T085312
CREATED:20221130T064543Z
LAST-MODIFIED:20221130T064639Z
UID:13801-1671562800-1671566400@vcaahi.org
SUMMARY:DISTRICT 28  (click for info)
DESCRIPTION:
URL:https://vcaahi.org/event/district-28-click-for-info-9/
LOCATION:King of Glory Church 2500 Borchard Rd Newbury Park\, CA
END:VEVENT
BEGIN:VEVENT
DTSTART;TZID=UTC:20221215T190000
DTEND;TZID=UTC:20221215T200000
DTSTAMP:20260425T085312
CREATED:20221130T064426Z
LAST-MODIFIED:20221130T064426Z
UID:13799-1671130800-1671134400@vcaahi.org
SUMMARY:DISTRICT 24 (click for info)
DESCRIPTION:
URL:https://vcaahi.org/event/district-24-click-for-info-9/
LOCATION:United Methodist Church Room 10 2394 Erringer Rd Simi Valley\, CA 93065\, 2394 Erringer Rd\, Simi Valley\, CA\, 93065
END:VEVENT
BEGIN:VEVENT
DTSTART;TZID=UTC:20221207T190000
DTEND;TZID=UTC:20221207T200000
DTSTAMP:20260425T085312
CREATED:20221130T064252Z
LAST-MODIFIED:20221130T064252Z
UID:13797-1670439600-1670443200@vcaahi.org
SUMMARY:District 13 (click for info)
DESCRIPTION:
URL:https://vcaahi.org/event/district-13-click-for-info-9/
LOCATION:Ventura Center for Spiritual Living 101 S. Laurel\, Ventura\, CA 93001
END:VEVENT
BEGIN:VEVENT
DTSTART;TZID=UTC:20221204T153000
DTEND;TZID=UTC:20221204T163000
DTSTAMP:20260425T085312
CREATED:20221130T063031Z
LAST-MODIFIED:20221130T063031Z
UID:13795-1670167800-1670171400@vcaahi.org
SUMMARY:VCAAHI COMMITTEE MEETING (click for info)
DESCRIPTION:
URL:https://vcaahi.org/event/vcaahi-committee-meeting-click-for-info-8/
LOCATION:The Buck\, 321 N. Aviador St. Suite 111  Camarillo\, CA 93010\, 321 N. Aviador St. Suite 111 \, Camarillo\, CA\, 93010
END:VEVENT
BEGIN:VEVENT
DTSTART;TZID=UTC:20221204T150000
DTEND;TZID=UTC:20221204T152000
DTSTAMP:20260425T085312
CREATED:20221130T061749Z
LAST-MODIFIED:20221130T061749Z
UID:13786-1670166000-1670167200@vcaahi.org
SUMMARY:VCAAHI ORIENTATION WORKSHOP (click for info)
DESCRIPTION:
URL:https://vcaahi.org/event/vcaahi-orientation-workshop-click-for-info-3/
LOCATION:The Buck\, 321 N. Aviador St. Suite 111  Camarillo\, CA 93010\, 321 N. Aviador St. Suite 111 \, Camarillo\, CA\, 93010
END:VEVENT
BEGIN:VEVENT
DTSTART;TZID=UTC:20221203T180000
DTEND;TZID=UTC:20221203T210000
DTSTAMP:20260425T085312
CREATED:20221130T071311Z
LAST-MODIFIED:20221130T072603Z
UID:13803-1670090400-1670101200@vcaahi.org
SUMMARY:SOBER SISTERS BINGO (click for info)
DESCRIPTION:
URL:https://vcaahi.org/event/sober-sisters-bingo/
LOCATION:Freedon Center – 515 Eubanks St  Camarillo\, California 93010\, 515 Eubanks\, Camarillo\, CA\, 93010
END:VEVENT
BEGIN:VEVENT
DTSTART;VALUE=DATE:20221130
DTEND;VALUE=DATE:20221201
DTSTAMP:20260425T085312
CREATED:20221101T043420Z
LAST-MODIFIED:20221101T043420Z
UID:13742-1669766400-1669852799@vcaahi.org
SUMMARY:FIFTH WEEK
DESCRIPTION:
URL:https://vcaahi.org/event/fifth-week-44/
LOCATION:CA
END:VEVENT
BEGIN:VEVENT
DTSTART;TZID=UTC:20221129T080000
DTEND;TZID=UTC:20221129T170000
DTSTAMP:20260425T085312
CREATED:20221101T043252Z
LAST-MODIFIED:20221101T043252Z
UID:13740-1669708800-1669741200@vcaahi.org
SUMMARY:FIFTH WEEK
DESCRIPTION:
URL:https://vcaahi.org/event/fifth-week-43/
LOCATION:CA
END:VEVENT
BEGIN:VEVENT
DTSTART;TZID=UTC:20221127T160000
DTEND;TZID=UTC:20221127T163000
DTSTAMP:20260425T085313
CREATED:20221101T042927Z
LAST-MODIFIED:20221101T043105Z
UID:13738-1669564800-1669566600@vcaahi.org
SUMMARY:VCAAHI BOARD MEETING (click for info)
DESCRIPTION:
URL:https://vcaahi.org/event/vcaahi-board-meeting-click-for-info-11/
LOCATION:id 894 2953 3154 pw 448771
END:VEVENT
BEGIN:VEVENT
DTSTART;VALUE=DATE:20221124
DTEND;VALUE=DATE:20221125
DTSTAMP:20260425T085313
CREATED:20221101T042606Z
LAST-MODIFIED:20221101T042606Z
UID:13736-1669248000-1669334399@vcaahi.org
SUMMARY:THANKSGIVING
DESCRIPTION:
URL:https://vcaahi.org/event/thanksgiving-2/
LOCATION:CA
END:VEVENT
BEGIN:VEVENT
DTSTART;TZID=UTC:20221120T120000
DTEND;TZID=UTC:20221120T133000
DTSTAMP:20260425T085313
CREATED:20221101T042417Z
LAST-MODIFIED:20221101T042417Z
UID:13734-1668945600-1668951000@vcaahi.org
SUMMARY:SOUTHERN CALIFORNIA H&I INTERGROUP (click for info) - this month only
DESCRIPTION:
URL:https://vcaahi.org/event/southern-california-hi-intergroup-click-for-info-this-month-only/
LOCATION:id: 290 755 6393 pw: 2091
END:VEVENT
BEGIN:VEVENT
DTSTART;TZID=UTC:20221119T080000
DTEND;TZID=UTC:20221120T170000
DTSTAMP:20260425T085313
CREATED:20221102T063345Z
LAST-MODIFIED:20221102T063504Z
UID:13746-1668844800-1668963600@vcaahi.org
SUMMARY:AREA 93 ASSEMBLY (click for info)
DESCRIPTION:
URL:https://vcaahi.org/event/area-93-assembly-click-for-details/
LOCATION:Fillmore Senior Center 533 Sanat Clara Street\, Fillmore CA\, 533 Santa Clara Street\, Fillmore\, CA
END:VEVENT
BEGIN:VEVENT
DTSTART;TZID=UTC:20221117T190000
DTEND;TZID=UTC:20221117T200000
DTSTAMP:20260425T085313
CREATED:20221101T041640Z
LAST-MODIFIED:20221101T041640Z
UID:13728-1668711600-1668715200@vcaahi.org
SUMMARY:DISTRICT 24 (click for info)
DESCRIPTION:
URL:https://vcaahi.org/event/district-24-click-for-info-8/
LOCATION:United Methodist Church Room 10 2394 Erringer Rd Simi Valley\, CA 93065\, 2394 Erringer Rd\, Simi Valley\, CA\, 93065
END:VEVENT
BEGIN:VEVENT
DTSTART;TZID=UTC:20221116T190000
DTEND;TZID=UTC:20221116T200000
DTSTAMP:20260425T085313
CREATED:20221101T042033Z
LAST-MODIFIED:20221101T042033Z
UID:13732-1668625200-1668628800@vcaahi.org
SUMMARY:GOLD COAST DISTRICT 9 & 12 ( clink for info)
DESCRIPTION:
URL:https://vcaahi.org/event/gold-coast-district-9-12-clink-for-info-3/
LOCATION:The Buck\, 321 N. Aviador St. Suite 111  Camarillo\, CA 93010\, 321 N. Aviador St. Suite 111 \, Camarillo\, CA\, 93010
END:VEVENT
BEGIN:VEVENT
DTSTART;TZID=UTC:20221115T190000
DTEND;TZID=UTC:20221115T200000
DTSTAMP:20260425T085313
CREATED:20221101T041830Z
LAST-MODIFIED:20221101T041830Z
UID:13730-1668538800-1668542400@vcaahi.org
SUMMARY:DISTRICT 28  (click for info)
DESCRIPTION:
URL:https://vcaahi.org/event/district-28-click-for-info-8/
LOCATION:King of Glory Church 2500 Borchard Rd Newbury Park\, CA
END:VEVENT
BEGIN:VEVENT
DTSTART;TZID=UTC:20221106T153000
DTEND;TZID=UTC:20221106T163000
DTSTAMP:20260425T085313
CREATED:20221101T041112Z
LAST-MODIFIED:20221101T041112Z
UID:13724-1667748600-1667752200@vcaahi.org
SUMMARY:VCAAHI COMMITTEE MEETING (click for info)
DESCRIPTION:
URL:https://vcaahi.org/event/vcaahi-committee-meeting-click-for-info-7/
LOCATION:The Buck\, 321 N. Aviador St. Suite 111  Camarillo\, CA 93010\, 321 N. Aviador St. Suite 111 \, Camarillo\, CA\, 93010
END:VEVENT
BEGIN:VEVENT
DTSTART;TZID=UTC:20221106T150000
DTEND;TZID=UTC:20221106T152000
DTSTAMP:20260425T085313
CREATED:20221101T040925Z
LAST-MODIFIED:20221101T040925Z
UID:13722-1667746800-1667748000@vcaahi.org
SUMMARY:VCAAHI ORIENTATION WORKSHOP (click for info)
DESCRIPTION:
URL:https://vcaahi.org/event/vcaahi-orientation-workshop-click-for-info-2/
LOCATION:The Buck\, 321 N. Aviador St. Suite 111  Camarillo\, CA 93010\, 321 N. Aviador St. Suite 111 \, Camarillo\, CA\, 93010
END:VEVENT
BEGIN:VEVENT
DTSTART;VALUE=DATE:20221106
DTEND;VALUE=DATE:20221107
DTSTAMP:20260425T085313
CREATED:20221101T040701Z
LAST-MODIFIED:20221101T040701Z
UID:13720-1667692800-1667779199@vcaahi.org
SUMMARY:DAYLIGHT SAVINGS TIME ENDS (clocks go back)
DESCRIPTION:
URL:https://vcaahi.org/event/daylight-savings-time-ends-clocks-go-back/
LOCATION:CA
END:VEVENT
BEGIN:VEVENT
DTSTART;TZID=UTC:20221102T190000
DTEND;TZID=UTC:20221102T200000
DTSTAMP:20260425T085313
CREATED:20221101T041420Z
LAST-MODIFIED:20221101T041420Z
UID:13726-1667415600-1667419200@vcaahi.org
SUMMARY:District 13 (click for info)
DESCRIPTION:
URL:https://vcaahi.org/event/district-13-click-for-info-8/
LOCATION:Ventura Center for Spiritual Living 101 S. Laurel\, Ventura\, CA 93001
END:VEVENT
BEGIN:VEVENT
DTSTART;VALUE=DATE:20221031
DTEND;VALUE=DATE:20221101
DTSTAMP:20260425T085313
CREATED:20220923T052940Z
LAST-MODIFIED:20220923T052940Z
UID:13704-1667174400-1667260799@vcaahi.org
SUMMARY:FIFTH WEEK
DESCRIPTION:
URL:https://vcaahi.org/event/fifth-week-42/
LOCATION:CA
END:VEVENT
BEGIN:VEVENT
DTSTART;TZID=UTC:20221030T163000
DTEND;TZID=UTC:20221030T170000
DTSTAMP:20260425T085313
CREATED:20220923T052636Z
LAST-MODIFIED:20220923T052636Z
UID:13698-1667147400-1667149200@vcaahi.org
SUMMARY:VCAAHI BOARD MEETING (click for info)
DESCRIPTION:
URL:https://vcaahi.org/event/vcaahi-board-meeting-click-for-info-10/
LOCATION:id 894 2953 3154 pw 448771
END:VEVENT
BEGIN:VEVENT
DTSTART;VALUE=DATE:20221030
DTEND;VALUE=DATE:20221031
DTSTAMP:20260425T085313
CREATED:20220923T052741Z
LAST-MODIFIED:20220923T052741Z
UID:13700-1667088000-1667174399@vcaahi.org
SUMMARY:FIFTH WEEK
DESCRIPTION:
URL:https://vcaahi.org/event/fifth-week-40/
LOCATION:CA
END:VEVENT
BEGIN:VEVENT
DTSTART;VALUE=DATE:20221029
DTEND;VALUE=DATE:20221030
DTSTAMP:20260425T085313
CREATED:20220923T052853Z
LAST-MODIFIED:20220923T052853Z
UID:13702-1667001600-1667087999@vcaahi.org
SUMMARY:FIFTH WEEK
DESCRIPTION:
URL:https://vcaahi.org/event/fifth-week-41/
LOCATION:CA
END:VEVENT
BEGIN:VEVENT
DTSTART;TZID=UTC:20221023T120000
DTEND;TZID=UTC:20221023T133000
DTSTAMP:20260425T085313
CREATED:20220923T052426Z
LAST-MODIFIED:20220923T052426Z
UID:13696-1666526400-1666531800@vcaahi.org
SUMMARY:SOUTHERN CALIFORNIA H&I INTERGROUP (click for info)
DESCRIPTION:
URL:https://vcaahi.org/event/southern-california-hi-intergroup-click-for-info-5/
LOCATION:id: 290 755 6393 pw: 2091
END:VEVENT
BEGIN:VEVENT
DTSTART;TZID=UTC:20221020T190000
DTEND;TZID=UTC:20221020T200000
DTSTAMP:20260425T085313
CREATED:20220923T051541Z
LAST-MODIFIED:20220923T051541Z
UID:13690-1666292400-1666296000@vcaahi.org
SUMMARY:DISTRICT 24 (click for info)
DESCRIPTION:
URL:https://vcaahi.org/event/district-24-click-for-info-7/
LOCATION:United Methodist Church Room 10 2394 Erringer Rd Simi Valley\, CA 93065\, 2394 Erringer Rd\, Simi Valley\, CA\, 93065
END:VEVENT
BEGIN:VEVENT
DTSTART;TZID=UTC:20221019T190000
DTEND;TZID=UTC:20221019T200000
DTSTAMP:20260425T085313
CREATED:20220923T052011Z
LAST-MODIFIED:20220923T052011Z
UID:13694-1666206000-1666209600@vcaahi.org
SUMMARY:GOLD COAST DISTRICT 9 & 12 ( clink for info)
DESCRIPTION:
URL:https://vcaahi.org/event/gold-coast-district-9-12-clink-for-info-2/
LOCATION:The Buck\, 321 N. Aviador St. Suite 111  Camarillo\, CA 93010\, 321 N. Aviador St. Suite 111 \, Camarillo\, CA\, 93010
END:VEVENT
END:VCALENDAR