BEGIN:VCALENDAR
VERSION:2.0
PRODID:-//Ventura County H&amp;I - ECPv6.15.20//NONSGML v1.0//EN
CALSCALE:GREGORIAN
METHOD:PUBLISH
X-WR-CALNAME:Ventura County H&amp;I
X-ORIGINAL-URL:https://vcaahi.org
X-WR-CALDESC:Events for Ventura County H&amp;I
REFRESH-INTERVAL;VALUE=DURATION:PT1H
X-Robots-Tag:noindex
X-PUBLISHED-TTL:PT1H
BEGIN:VTIMEZONE
TZID:America/Los_Angeles
BEGIN:DAYLIGHT
TZOFFSETFROM:-0800
TZOFFSETTO:-0700
TZNAME:PDT
DTSTART:20250309T100000
END:DAYLIGHT
BEGIN:STANDARD
TZOFFSETFROM:-0700
TZOFFSETTO:-0800
TZNAME:PST
DTSTART:20251102T090000
END:STANDARD
BEGIN:DAYLIGHT
TZOFFSETFROM:-0800
TZOFFSETTO:-0700
TZNAME:PDT
DTSTART:20260308T100000
END:DAYLIGHT
BEGIN:STANDARD
TZOFFSETFROM:-0700
TZOFFSETTO:-0800
TZNAME:PST
DTSTART:20261101T090000
END:STANDARD
BEGIN:DAYLIGHT
TZOFFSETFROM:-0800
TZOFFSETTO:-0700
TZNAME:PDT
DTSTART:20270314T100000
END:DAYLIGHT
BEGIN:STANDARD
TZOFFSETFROM:-0700
TZOFFSETTO:-0800
TZNAME:PST
DTSTART:20271107T090000
END:STANDARD
END:VTIMEZONE
BEGIN:VEVENT
DTSTART;TZID=America/Los_Angeles:20260424T120000
DTEND;TZID=America/Los_Angeles:20260426T130000
DTSTAMP:20260425T040838
CREATED:20260322T043629Z
LAST-MODIFIED:20260327T134228Z
UID:14464-1777032000-1777208400@vcaahi.org
SUMMARY:Serenity By The Sea
DESCRIPTION:
URL:https://vcaahi.org/event/serenity-by-the-sea/
LOCATION:OXNARD PERFORMING ARTS CENTER
END:VEVENT
BEGIN:VEVENT
DTSTART;TZID=America/Los_Angeles:20260503T153000
DTEND;TZID=America/Los_Angeles:20260503T163000
DTSTAMP:20260425T040838
CREATED:20260423T043711Z
LAST-MODIFIED:20260423T043711Z
UID:14480-1777822200-1777825800@vcaahi.org
SUMMARY:May H&I Committee Meeting
DESCRIPTION:Orientation for New Members starts @ 3:00pm
URL:https://vcaahi.org/event/may-hi-committee-meeting/
LOCATION:The Buck\, 321 N. Aviador St. Suite 111  Camarillo\, CA 93010\, 321 N. Aviador St. Suite 111 \, Camarillo\, CA\, 93010
END:VEVENT
BEGIN:VEVENT
DTSTART;TZID=America/Los_Angeles:20260516T103000
DTEND;TZID=America/Los_Angeles:20260516T120000
DTSTAMP:20260425T040838
CREATED:20260423T044641Z
LAST-MODIFIED:20260423T044641Z
UID:14485-1778927400-1778932800@vcaahi.org
SUMMARY:Todd Road Orientation
DESCRIPTION:This Event is only for those Members who have Jail Clearance\, \nand have received an invitation to attend.
URL:https://vcaahi.org/event/todd-road-orientation/
LOCATION:Todd Road Jail\, 600 Todd Rd\, Santa Paula\, CA\, 93060\, United States
END:VEVENT
END:VCALENDAR